Workbook
Name Alimentación: aux!$G$3:$G$12
Name Aliños: auxalimen!$A$2:$A$7
Name Aperitivos: auxalimen!$B$2:$B$7
Name auxalimen: [1]auxalimen!$A$1:$N$1
Name Bebida: aux!$P$3:$P$7
Name Bebidas: auxalimen!$C$2:$C$7
Name Carne: auxalimen!$D$2:$D$6
Name Cereales: auxalimen!$E$2:$E$7
Name Charcutería: auxalimen!$F$2:$F$6
Name Comida: aux!$Q$3:$Q$7
Name Compras: aux!$R$3:$R$13
Name Conservas: auxalimen!$G$2:$G$7
Name Fastfood: auxalimen!$H$2:$H$6
Name Frutas: auxalimen!$I$2:$I$9
Name GastosCasa: aux!$H$3:$H$8
Name Hogar: aux!$D$3:$D$6
Name Ingresos: aux!$C$3:$C$8
Name JoseMari: aux!$L$3:$L$6
Name Lácteos: auxalimen!$J$2:$J$6
Name Lucas: aux!$I$3:$I$7
Name MariCarmen: [1]aux!$N$3:$N$7
Name Obligatorios: aux!$A$2:$A$5
Name Ocio: aux!$P$2:$S$2
Name OtrosTrans: aux!$N$3:$N$7
Name Pasta: auxalimen!$K$2:$K$6
Name Pescados: auxalimen!$L$2:$L$5
Name Postres: auxalimen!$M$2:$M$5
Name Recibos: aux!$J$3:$J$7
Name Transporte: aux!$E$3:$E$5
Name Verduras: auxalimen!$N$2:$N$13
Name Viajes: aux!$S$3:$S$16

Sheet Enero
A1: 2020 | B1: Enero | D1: Día | E1: Importe | F1: Tipo | G1: Concepto | H1: Detalle | J1: Otros | L1: Alimentación | M1: Enero | O1: Día | P1: Importe | Q1: Categoría | R1: Producto | S1: Otros
A2: =aux!D2 -> Hogar | B2: =SUM(B3+B14+B19+B21+B27) -> 0 | L2: =auxalimen!A1 -> Aliños | M2: =SUM(M3:M8) -> 0
A3: =aux!D3 -> Alimentación | B3: =SUM(B4:B13) -> 0 | L3: =auxalimen!A2 -> Aceite | M3: =SUMIFS($P:$P,$R:$R,L3,$Q:$Q,$L$2) -> 0
A4: =aux!G3 -> Ahorra Más | B4: =SUMIFS($E:$E,$H:$H,A4,$G:$G,$A$3) -> 0 | L4: =auxalimen!A3 -> Condimentos | M4: =SUMIFS($P:$P,$R:$R,L4,$Q:$Q,$L$2) -> 0
A5: =aux!G4 -> Aldi | B5: =SUMIFS($E:$E,$H:$H,A5,$G:$G,$A$3) -> 0 | L5: =auxalimen!A4 -> Mayonesa | M5: =SUMIFS($P:$P,$R:$R,L5,$Q:$Q,$L$2) -> 0
A6: =aux!G5 -> Baratas | B6: =SUMIFS($E:$E,$H:$H,A6,$G:$G,$A$3) -> 0 | L6: =auxalimen!A5 -> Salsas | M6: =SUMIFS($P:$P,$R:$R,L6,$Q:$Q,$L$2) -> 0
A7: =aux!G6 -> Carrefour | B7: =SUMIFS($E:$E,$H:$H,A7,$G:$G,$A$3) -> 0 | L7: =auxalimen!A6 -> Vinagre | M7: =SUMIFS($P:$P,$R:$R,L7,$Q:$Q,$L$2) -> 0
A8: =aux!G7 -> Chino | B8: =SUMIFS($E:$E,$H:$H,A8,$G:$G,$A$3) -> 0 | L8: =auxalimen!A7 -> Otros | M8: =SUMIFS($P:$P,$R:$R,L8,$Q:$Q,$L$2) -> 0
A9: =aux!G8 -> Mercadillo | B9: =SUMIFS($E:$E,$H:$H,A9,$G:$G,$A$3) -> 0 | L9: =auxalimen!B1 -> Aperitivos | M9: =SUM(M10:M15) -> 0
A10: =aux!G9 -> Mercadona | B10: =SUMIFS($E:$E,$H:$H,A10,$G:$G,$A$3) -> 0 | L10: =auxalimen!B2 -> Aceitunas | M10: =SUMIFS($P:$P,$R:$R,L10,$Q:$Q,$L$9) -> 0
A11: =aux!G10 -> Shell | B11: =SUMIFS($E:$E,$H:$H,A11,$G:$G,$A$3) -> 0 | L11: =auxalimen!B3 -> Dulces | M11: =SUMIFS($P:$P,$R:$R,L11,$Q:$Q,$L$9) -> 0
A12: =aux!G11 -> Valentín | B12: =SUMIFS($E:$E,$H:$H,A12,$G:$G,$A$3) -> 0 | L12: =auxalimen!B4 -> Nachos | M12: =SUMIFS($P:$P,$R:$R,L12,$Q:$Q,$L$9) -> 0
A13: =aux!G12 -> Otros | B13: =SUMIFS($E:$E,$H:$H,A13,$G:$G,$A$3) -> 0 | L13: =auxalimen!B5 -> Frutos secos | M13: =SUMIFS($P:$P,$R:$R,L13,$Q:$Q,$L$9) -> 0
A14: =aux!D4 -> GastosCasa | B14: =SUM(B15:B18) -> 0 | L14: =auxalimen!B6 -> Patatas fritas | M14: =SUMIFS($P:$P,$R:$R,L14,$Q:$Q,$L$9) -> 0
A15: =aux!H3 -> Alquiler | B15: =SUMIFS($E:$E,$H:$H,A15,$G:$G,$A$14) -> 0 | L15: =auxalimen!B7 -> Otros | M15: =SUMIFS($P:$P,$R:$R,L15,$Q:$Q,$L$9) -> 0
A16: =aux!H4 -> Aseo | B16: =SUMIFS($E:$E,$H:$H,A16,$G:$G,$A$14) -> 0 | L16: =auxalimen!C1 -> Bebidas | M16: =SUM(M17:M22) -> 0
A17: =aux!H5 -> Compras para casa | B17: =SUMIFS($E:$E,$H:$H,A17,$G:$G,$A$14) -> 0 | L17: =auxalimen!C2 -> Aquarius | M17: =SUMIFS($P:$P,$R:$R,L17,$Q:$Q,$L$16) -> 0
A18: =aux!H6 -> Doc. Imp. Multas | B18: =SUMIFS($E:$E,$H:$H,A18,$G:$G,$A$14) -> 0 | L18: =auxalimen!C3 -> Cerveza | M18: =SUMIFS($P:$P,$R:$R,L18,$Q:$Q,$L$16) -> 0
A19: =aux!H7 -> Productos limpieza | B19: =SUM(B20:B20) -> 0 | L19: =auxalimen!C4 -> Coca cola | M19: =SUMIFS($P:$P,$R:$R,L19,$Q:$Q,$L$16) -> 0
A20: =aux!H8 -> Salud | B20: =SUMIFS($E:$E,$H:$H,A20,$G:$G,$A$19) -> 0 | L20: =auxalimen!C5 -> Vino | M20: =SUMIFS($P:$P,$R:$R,L20,$Q:$Q,$L$16) -> 0
A21: =aux!D5 -> Lucas | B21: =SUM(B22:B25) -> 0 | L21: =auxalimen!C6 -> Zumo | M21: =SUMIFS($P:$P,$R:$R,L21,$Q:$Q,$L$16) -> 0
A22: =aux!I3 -> Complementos | B22: =SUMIFS($E:$E,$H:$H,A22,$G:$G,$A$21) -> 0 | L22: =auxalimen!C7 -> Otras | M22: =SUMIFS($P:$P,$R:$R,L22,$Q:$Q,$L$16) -> 0
A23: =aux!I4 -> Chucherías | B23: =SUMIFS($E:$E,$H:$H,A23,$G:$G,$A$21) -> 0 | L23: =auxalimen!D1 -> Carne | M23: =SUM(M24:M28) -> 0
A24: =aux!I5 -> Piensos | B24: =SUMIFS($E:$E,$H:$H,A24,$G:$G,$A$21) -> 0 | L24: =auxalimen!D2 -> Cerdo | M24: =SUMIFS($P:$P,$R:$R,L24,$Q:$Q,$L$23) -> 0
A25: =aux!I6 -> Pollo | B25: =SUMIFS($E:$E,$H:$H,A25,$G:$G,$A$21) -> 0 | L25: =auxalimen!D3 -> Pavo | M25: =SUMIFS($P:$P,$R:$R,L25,$Q:$Q,$L$23) -> 0
A26: =aux!I7 -> Veterinario | B26: =SUMIFS($E:$E,$H:$H,A26,$G:$G,$A$21) -> 0 | L26: =auxalimen!D4 -> Pollo | M26: =SUMIFS($P:$P,$R:$R,L26,$Q:$Q,$L$23) -> 0
A27: =aux!D6 -> Recibos | B27: =SUM(B28:B32) -> 0 | L27: =auxalimen!D5 -> Ternera | M27: =SUMIFS($P:$P,$R:$R,L27,$Q:$Q,$L$23) -> 0
A28: =aux!J3 -> Canal Isabel II | B28: =SUMIFS($E:$E,$H:$H,A28,$G:$G,$A$27) -> 0 | L28: =auxalimen!D6 -> Otros | M28: =SUMIFS($P:$P,$R:$R,L28,$Q:$Q,$L$23) -> 0
A29: =aux!J4 -> Gas Natural | B29: =SUMIFS($E:$E,$H:$H,A29,$G:$G,$A$27) -> 0 | L29: =auxalimen!E1 -> Cereales | M29: =SUM(M30:M35) -> 0
A30: =aux!J5 -> Iberdrola | B30: =SUMIFS($E:$E,$H:$H,A30,$G:$G,$A$27) -> 0 | L30: =auxalimen!E2 -> Arroz | M30: =SUMIFS($P:$P,$R:$R,L30,$Q:$Q,$L$29) -> 0
A31: =aux!J6 -> Lowi | B31: =SUMIFS($E:$E,$H:$H,A31,$G:$G,$A$27) -> 0 | L31: =auxalimen!E3 -> Avena | M31: =SUMIFS($P:$P,$R:$R,L31,$Q:$Q,$L$29) -> 0
A32: =aux!J7 -> Varios | B32: =SUMIFS($E:$E,$H:$H,A32,$G:$G,$A$27) -> 0 | L32: =auxalimen!E4 -> Pan | M32: =SUMIFS($P:$P,$R:$R,L32,$Q:$Q,$L$29) -> 0
A33: =aux!E2 -> Transporte | B33: =SUM(B34,B39,B44,B49) -> 0 | L33: =auxalimen!E5 -> Pan otros | M33: =SUMIFS($P:$P,$R:$R,L33,$Q:$Q,$L$29) -> 0
A34: =aux!E3 -> JoseMari | B34: =SUM(B35:B38) -> 0 | L34: =auxalimen!E6 -> Tortillas | M34: =SUMIFS($P:$P,$R:$R,L34,$Q:$Q,$L$29) -> 0
A35: =aux!L3 -> Complementos | B35: =SUMIFS($E:$E,$H:$H,A35,$G:$G,$A$34) -> 0 | L35: =auxalimen!E7 -> Otro | M35: =SUMIFS($P:$P,$R:$R,L35,$Q:$Q,$L$29) -> 0
A36: =aux!L4 -> Gasolina | B36: =SUMIFS($E:$E,$H:$H,A36,$G:$G,$A$34) -> 0 | L36: =auxalimen!F1 -> Charcutería | M36: =SUM(M38:M41) -> 0
A37: =aux!L5 -> Imp. Multas y seguro | B37: =SUMIFS($E:$E,$H:$H,A37,$G:$G,$A$34) -> 0 | L37: =auxalimen!F2 -> Chorizo | M37: =SUMIFS($P:$P,$R:$R,L37,$Q:$Q,$L$36) -> 0
A38: =aux!L6 -> Taller | B38: =SUMIFS($E:$E,$H:$H,A38,$G:$G,$A$34) -> 0 | L38: =auxalimen!F3 -> Jamón serrano | M38: =SUMIFS($P:$P,$R:$R,L38,$Q:$Q,$L$36) -> 0
A39: =aux!E4 -> MariCarmen | B39: =SUM(B40:B43) -> 0 | L39: =auxalimen!F4 -> Jamón york | M39: =SUMIFS($P:$P,$R:$R,L39,$Q:$Q,$L$36) -> 0
A40: =aux!M3 -> Complementos | B40: =SUMIFS($E:$E,$H:$H,A40,$G:$G,$A$39) -> 0 | L40: =auxalimen!F5 -> Sanchichón | M40: =SUMIFS($P:$P,$R:$R,L40,$Q:$Q,$L$36) -> 0
...

Sheet Febrero
A1: 2020 | B1: Enero | D1: Día | E1: Importe | F1: Tipo | G1: Concepto | H1: Detalle | J1: Otros | L1: Alimentación | M1: Enero | O1: Día | P1: Importe | Q1: Categoría | R1: Producto | S1: Otros
A2: =aux!D2 -> Hogar | B2: =SUM(B3+B14+B19+B21+B27) -> 0 | L2: =auxalimen!A1 -> Aliños | M2: =SUM(M3:M8) -> 0
A3: =aux!D3 -> Alimentación | B3: =SUM(B4:B13) -> 0 | L3: =auxalimen!A2 -> Aceite | M3: =SUMIFS($P:$P,$R:$R,L3,$Q:$Q,$L$2) -> 0
A4: =aux!G3 -> Ahorra Más | B4: =SUMIFS($E:$E,$H:$H,A4,$G:$G,$A$3) -> 0 | L4: =auxalimen!A3 -> Condimentos | M4: =SUMIFS($P:$P,$R:$R,L4,$Q:$Q,$L$2) -> 0
A5: =aux!G4 -> Aldi | B5: =SUMIFS($E:$E,$H:$H,A5,$G:$G,$A$3) -> 0 | L5: =auxalimen!A4 -> Mayonesa | M5: =SUMIFS($P:$P,$R:$R,L5,$Q:$Q,$L$2) -> 0
A6: =aux!G5 -> Baratas | B6: =SUMIFS($E:$E,$H:$H,A6,$G:$G,$A$3) -> 0 | L6: =auxalimen!A5 -> Salsas | M6: =SUMIFS($P:$P,$R:$R,L6,$Q:$Q,$L$2) -> 0
A7: =aux!G6 -> Carrefour | B7: =SUMIFS($E:$E,$H:$H,A7,$G:$G,$A$3) -> 0 | L7: =auxalimen!A6 -> Vinagre | M7: =SUMIFS($P:$P,$R:$R,L7,$Q:$Q,$L$2) -> 0
A8: =aux!G7 -> Chino | B8: =SUMIFS($E:$E,$H:$H,A8,$G:$G,$A$3) -> 0 | L8: =auxalimen!A7 -> Otros | M8: =SUMIFS($P:$P,$R:$R,L8,$Q:$Q,$L$2) -> 0
A9: =aux!G8 -> Mercadillo | B9: =SUMIFS($E:$E,$H:$H,A9,$G:$G,$A$3) -> 0 | L9: =auxalimen!B1 -> Aperitivos | M9: =SUM(M10:M15) -> 0
A10: =aux!G9 -> Mercadona | B10: =SUMIFS($E:$E,$H:$H,A10,$G:$G,$A$3) -> 0 | L10: =auxalimen!B2 -> Aceitunas | M10: =SUMIFS($P:$P,$R:$R,L10,$Q:$Q,$L$9) -> 0
A11: =aux!G10 -> Shell | B11: =SUMIFS($E:$E,$H:$H,A11,$G:$G,$A$3) -> 0 | L11: =auxalimen!B3 -> Dulces | M11: =SUMIFS($P:$P,$R:$R,L11,$Q:$Q,$L$9) -> 0
A12: =aux!G11 -> Valentín | B12: =SUMIFS($E:$E,$H:$H,A12,$G:$G,$A$3) -> 0 | L12: =auxalimen!B4 -> Nachos | M12: =SUMIFS($P:$P,$R:$R,L12,$Q:$Q,$L$9) -> 0
A13: =aux!G12 -> Otros | B13: =SUMIFS($E:$E,$H:$H,A13,$G:$G,$A$3) -> 0 | L13: =auxalimen!B5 -> Frutos secos | M13: =SUMIFS($P:$P,$R:$R,L13,$Q:$Q,$L$9) -> 0
A14: =aux!D4 -> GastosCasa | B14: =SUM(B15:B18) -> 0 | L14: =auxalimen!B6 -> Patatas fritas | M14: =SUMIFS($P:$P,$R:$R,L14,$Q:$Q,$L$9) -> 0
A15: =aux!H3 -> Alquiler | B15: =SUMIFS($E:$E,$H:$H,A15,$G:$G,$A$14) -> 0 | L15: =auxalimen!B7 -> Otros | M15: =SUMIFS($P:$P,$R:$R,L15,$Q:$Q,$L$9) -> 0
A16: =aux!H4 -> Aseo | B16: =SUMIFS($E:$E,$H:$H,A16,$G:$G,$A$14) -> 0 | L16: =auxalimen!C1 -> Bebidas | M16: =SUM(M17:M22) -> 0
A17: =aux!H5 -> Compras para casa | B17: =SUMIFS($E:$E,$H:$H,A17,$G:$G,$A$14) -> 0 | L17: =auxalimen!C2 -> Aquarius | M17: =SUMIFS($P:$P,$R:$R,L17,$Q:$Q,$L$16) -> 0
A18: =aux!H6 -> Doc. Imp. Multas | B18: =SUMIFS($E:$E,$H:$H,A18,$G:$G,$A$14) -> 0 | L18: =auxalimen!C3 -> Cerveza | M18: =SUMIFS($P:$P,$R:$R,L18,$Q:$Q,$L$16) -> 0
A19: =aux!H7 -> Productos limpieza | B19: =SUM(B20:B20) -> 0 | L19: =auxalimen!C4 -> Coca cola | M19: =SUMIFS($P:$P,$R:$R,L19,$Q:$Q,$L$16) -> 0
A20: =aux!H8 -> Salud | B20: =SUMIFS($E:$E,$H:$H,A20,$G:$G,$A$19) -> 0 | L20: =auxalimen!C5 -> Vino | M20: =SUMIFS($P:$P,$R:$R,L20,$Q:$Q,$L$16) -> 0
A21: =aux!D5 -> Lucas | B21: =SUM(B22:B25) -> 0 | L21: =auxalimen!C6 -> Zumo | M21: =SUMIFS($P:$P,$R:$R,L21,$Q:$Q,$L$16) -> 0
A22: =aux!I3 -> Complementos | B22: =SUMIFS($E:$E,$H:$H,A22,$G:$G,$A$21) -> 0 | L22: =auxalimen!C7 -> Otras | M22: =SUMIFS($P:$P,$R:$R,L22,$Q:$Q,$L$16) -> 0
A23: =aux!I4 -> Chucherías | B23: =SUMIFS($E:$E,$H:$H,A23,$G:$G,$A$21) -> 0 | L23: =auxalimen!D1 -> Carne | M23: =SUM(M24:M28) -> 0
A24: =aux!I5 -> Piensos | B24: =SUMIFS($E:$E,$H:$H,A24,$G:$G,$A$21) -> 0 | L24: =auxalimen!D2 -> Cerdo | M24: =SUMIFS($P:$P,$R:$R,L24,$Q:$Q,$L$23) -> 0
A25: =aux!I6 -> Pollo | B25: =SUMIFS($E:$E,$H:$H,A25,$G:$G,$A$21) -> 0 | L25: =auxalimen!D3 -> Pavo | M25: =SUMIFS($P:$P,$R:$R,L25,$Q:$Q,$L$23) -> 0
A26: =aux!I7 -> Veterinario | B26: =SUMIFS($E:$E,$H:$H,A26,$G:$G,$A$21) -> 0 | L26: =auxalimen!D4 -> Pollo | M26: =SUMIFS($P:$P,$R:$R,L26,$Q:$Q,$L$23) -> 0
A27: =aux!D6 -> Recibos | B27: =SUM(B28:B32) -> 0 | L27: =auxalimen!D5 -> Ternera | M27: =SUMIFS($P:$P,$R:$R,L27,$Q:$Q,$L$23) -> 0
A28: =aux!J3 -> Canal Isabel II | B28: =SUMIFS($E:$E,$H:$H,A28,$G:$G,$A$27) -> 0 | L28: =auxalimen!D6 -> Otros | M28: =SUMIFS($P:$P,$R:$R,L28,$Q:$Q,$L$23) -> 0
A29: =aux!J4 -> Gas Natural | B29: =SUMIFS($E:$E,$H:$H,A29,$G:$G,$A$27) -> 0 | L29: =auxalimen!E1 -> Cereales | M29: =SUM(M30:M35) -> 0
A30: =aux!J5 -> Iberdrola | B30: =SUMIFS($E:$E,$H:$H,A30,$G:$G,$A$27) -> 0 | L30: =auxalimen!E2 -> Arroz | M30: =SUMIFS($P:$P,$R:$R,L30,$Q:$Q,$L$29) -> 0
A31: =aux!J6 -> Lowi | B31: =SUMIFS($E:$E,$H:$H,A31,$G:$G,$A$27) -> 0 | L31: =auxalimen!E3 -> Avena | M31: =SUMIFS($P:$P,$R:$R,L31,$Q:$Q,$L$29) -> 0
A32: =aux!J7 -> Varios | B32: =SUMIFS($E:$E,$H:$H,A32,$G:$G,$A$27) -> 0 | L32: =auxalimen!E4 -> Pan | M32: =SUMIFS($P:$P,$R:$R,L32,$Q:$Q,$L$29) -> 0
A33: =aux!E2 -> Transporte | B33: =SUM(B34,B39,B44,B49) -> 0 | L33: =auxalimen!E5 -> Pan otros | M33: =SUMIFS($P:$P,$R:$R,L33,$Q:$Q,$L$29) -> 0
A34: =aux!E3 -> JoseMari | B34: =SUM(B35:B38) -> 0 | L34: =auxalimen!E6 -> Tortillas | M34: =SUMIFS($P:$P,$R:$R,L34,$Q:$Q,$L$29) -> 0
A35: =aux!L3 -> Complementos | B35: =SUMIFS($E:$E,$H:$H,A35,$G:$G,$A$34) -> 0 | L35: =auxalimen!E7 -> Otro | M35: =SUMIFS($P:$P,$R:$R,L35,$Q:$Q,$L$29) -> 0
A36: =aux!L4 -> Gasolina | B36: =SUMIFS($E:$E,$H:$H,A36,$G:$G,$A$34) -> 0 | L36: =auxalimen!F1 -> Charcutería | M36: =SUM(M38:M41) -> 0
A37: =aux!L5 -> Imp. Multas y seguro | B37: =SUMIFS($E:$E,$H:$H,A37,$G:$G,$A$34) -> 0 | L37: =auxalimen!F2 -> Chorizo | M37: =SUMIFS($P:$P,$R:$R,L37,$Q:$Q,$L$36) -> 0
A38: =aux!L6 -> Taller | B38: =SUMIFS($E:$E,$H:$H,A38,$G:$G,$A$34) -> 0 | L38: =auxalimen!F3 -> Jamón serrano | M38: =SUMIFS($P:$P,$R:$R,L38,$Q:$Q,$L$36) -> 0
A39: =aux!E4 -> MariCarmen | B39: =SUM(B40:B43) -> 0 | L39: =auxalimen!F4 -> Jamón york | M39: =SUMIFS($P:$P,$R:$R,L39,$Q:$Q,$L$36) -> 0
A40: =aux!M3 -> Complementos | B40: =SUMIFS($E:$E,$H:$H,A40,$G:$G,$A$39) -> 0 | L40: =auxalimen!F5 -> Sanchichón | M40: =SUMIFS($P:$P,$R:$R,L40,$Q:$Q,$L$36) -> 0
...

Sheet Gastos 2020
A1: 2020 | B1: Enero | C1: Febrero | D1: Marzo | E1: Abril | F1: Mayo | G1: Junio | H1: Julio | I1: Agosto | J1: Septiembre | K1: Octubre | L1: Noviembre | M1: Diciembre | N1: Total | O1: Media por mes | P1: Media total
A2: =aux!D2 -> Hogar | B2: =Enero!B2 -> 0 | C2: =Febrero!B2 -> 0 | N2: =SUM(B2:M2) -> 0 | O2: =N2/2 -> 0 | P2: =N2/12 -> 0
A3: =aux!D3 -> Alimentación | B3: =Enero!B3 -> 0 | C3: =Febrero!B3 -> 0 | N3: =SUM(B3:M3) -> 0 | O3: =N3/2 -> 0 | P3: =N3/12 -> 0
A4: =aux!G3 -> Ahorra Más | B4: =Enero!B4 -> 0 | C4: =Febrero!B4 -> 0 | N4: =SUM(B4:M4) -> 0 | O4: =N4/2 -> 0 | P4: =N4/12 -> 0
A5: =aux!G4 -> Aldi | B5: =Enero!B5 -> 0 | C5: =Febrero!B5 -> 0 | N5: =SUM(B5:M5) -> 0 | O5: =N5/2 -> 0 | P5: =N5/12 -> 0
A6: =aux!G5 -> Baratas | B6: =Enero!B6 -> 0 | C6: =Febrero!B6 -> 0 | N6: =SUM(B6:M6) -> 0 | O6: =N6/2 -> 0 | P6: =N6/12 -> 0
A7: =aux!G6 -> Carrefour | B7: =Enero!B7 -> 0 | C7: =Febrero!B7 -> 0 | N7: =SUM(B7:M7) -> 0 | O7: =N7/2 -> 0 | P7: =N7/12 -> 0
A8: =aux!G7 -> Chino | B8: =Enero!B8 -> 0 | C8: =Febrero!B8 -> 0 | N8: =SUM(B8:M8) -> 0 | O8: =N8/2 -> 0 | P8: =N8/12 -> 0
A9: =aux!G8 -> Mercadillo | B9: =Enero!B9 -> 0 | C9: =Febrero!B9 -> 0 | N9: =SUM(B9:M9) -> 0 | O9: =N9/2 -> 0 | P9: =N9/12 -> 0
A10: =aux!G9 -> Mercadona | B10: =Enero!B10 -> 0 | C10: =Febrero!B10 -> 0 | N10: =SUM(B10:M10) -> 0 | O10: =N10/2 -> 0 | P10: =N10/12 -> 0
A11: =aux!G10 -> Shell | B11: =Enero!B11 -> 0 | C11: =Febrero!B11 -> 0 | N11: =SUM(B11:M11) -> 0 | O11: =N11/2 -> 0 | P11: =N11/12 -> 0
A12: =aux!G11 -> Valentín | B12: =Enero!B12 -> 0 | C12: =Febrero!B12 -> 0 | N12: =SUM(B12:M12) -> 0 | O12: =N12/2 -> 0 | P12: =N12/12 -> 0
A13: =aux!G12 -> Otros | B13: =Enero!B13 -> 0 | C13: =Febrero!B13 -> 0 | N13: =SUM(B13:M13) -> 0 | O13: =N13/2 -> 0 | P13: =N13/12 -> 0
A14: =aux!D4 -> GastosCasa | B14: =Enero!B14 -> 0 | C14: =Febrero!B14 -> 0 | N14: =SUM(B14:M14) -> 0 | O14: =N14/2 -> 0 | P14: =N14/12 -> 0
A15: =aux!H3 -> Alquiler | B15: =Enero!B15 -> 0 | C15: =Febrero!B15 -> 0 | N15: =SUM(B15:M15) -> 0 | O15: =N15/2 -> 0 | P15: =N15/12 -> 0
A16: =aux!H4 -> Aseo | B16: =Enero!B16 -> 0 | C16: =Febrero!B16 -> 0 | N16: =SUM(B16:M16) -> 0 | O16: =N16/2 -> 0 | P16: =N16/12 -> 0
A17: =aux!H5 -> Compras para casa | B17: =Enero!B17 -> 0 | C17: =Febrero!B17 -> 0 | N17: =SUM(B17:M17) -> 0 | O17: =N17/2 -> 0 | P17: =N17/12 -> 0
A18: =aux!H6 -> Doc. Imp. Multas | B18: =Enero!B18 -> 0 | C18: =Febrero!B18 -> 0 | N18: =SUM(B18:M18) -> 0 | O18: =N18/2 -> 0 | P18: =N18/12 -> 0
A19: =aux!H7 -> Productos limpieza | B19: =Enero!B19 -> 0 | C19: =Febrero!B19 -> 0 | N19: =SUM(B19:M19) -> 0 | O19: =N19/2 -> 0 | P19: =N19/12 -> 0
A20: =aux!H8 -> Salud | B20: =Enero!B20 -> 0 | C20: =Febrero!B20 -> 0 | N20: =SUM(B20:M20) -> 0 | O20: =N20/2 -> 0 | P20: =N20/12 -> 0
A21: =aux!D5 -> Lucas | B21: =Enero!B21 -> 0 | C21: =Febrero!B21 -> 0 | N21: =SUM(B21:M21) -> 0 | O21: =N21/2 -> 0 | P21: =N21/12 -> 0
A22: =aux!I3 -> Complementos | B22: =Enero!B22 -> 0 | C22: =Febrero!B22 -> 0 | N22: =SUM(B22:M22) -> 0 | O22: =N22/2 -> 0 | P22: =N22/12 -> 0
A23: =aux!I4 -> Chucherías | B23: =Enero!B23 -> 0 | C23: =Febrero!B23 -> 0 | N23: =SUM(B23:M23) -> 0 | O23: =N23/2 -> 0 | P23: =N23/12 -> 0
A24: =aux!I5 -> Piensos | B24: =Enero!B24 -> 0 | C24: =Febrero!B24 -> 0 | N24: =SUM(B24:M24) -> 0 | O24: =N24/2 -> 0 | P24: =N24/12 -> 0
A25: =aux!I6 -> Pollo | B25: =Enero!B25 -> 0 | C25: =Febrero!B25 -> 0 | N25: =SUM(B25:M25) -> 0 | O25: =N25/2 -> 0 | P25: =N25/12 -> 0
A26: =aux!I7 -> Veterinario | B26: =Enero!B26 -> 0 | C26: =Febrero!B26 -> 0 | N26: =SUM(B26:M26) -> 0 | O26: =N26/2 -> 0 | P26: =N26/12 -> 0
A27: =aux!D6 -> Recibos | B27: =Enero!B27 -> 0 | C27: =Febrero!B27 -> 0 | N27: =SUM(B27:M27) -> 0 | O27: =N27/2 -> 0 | P27: =N27/12 -> 0
A28: =aux!J3 -> Canal Isabel II | B28: =Enero!B28 -> 0 | C28: =Febrero!B28 -> 0 | N28: =SUM(B28:M28) -> 0 | O28: =N28/2 -> 0 | P28: =N28/12 -> 0
A29: =aux!J4 -> Gas Natural | B29: =Enero!B29 -> 0 | C29: =Febrero!B29 -> 0 | N29: =SUM(B29:M29) -> 0 | O29: =N29/2 -> 0 | P29: =N29/12 -> 0
A30: =aux!J5 -> Iberdrola | B30: =Enero!B30 -> 0 | C30: =Febrero!B30 -> 0 | N30: =SUM(B30:M30) -> 0 | O30: =N30/2 -> 0 | P30: =N30/12 -> 0
A31: =aux!J6 -> Lowi | B31: =Enero!B31 -> 0 | C31: =Febrero!B31 -> 0 | N31: =SUM(B31:M31) -> 0 | O31: =N31/2 -> 0 | P31: =N31/12 -> 0
A32: =aux!J7 -> Varios | B32: =Enero!B32 -> 0 | C32: =Febrero!B32 -> 0 | N32: =SUM(B32:M32) -> 0 | O32: =N32/2 -> 0 | P32: =N32/12 -> 0
A33: =aux!E2 -> Transporte | B33: =Enero!B33 -> 0 | C33: =Febrero!B33 -> 0 | N33: =SUM(B33:M33) -> 0 | O33: =N33/2 -> 0 | P33: =N33/12 -> 0
A34: =aux!E3 -> JoseMari | B34: =Enero!B34 -> 0 | C34: =Febrero!B34 -> 0 | N34: =SUM(B34:M34) -> 0 | O34: =N34/2 -> 0 | P34: =N34/12 -> 0
A35: =aux!L3 -> Complementos | B35: =Enero!B35 -> 0 | C35: =Febrero!B35 -> 0 | N35: =SUM(B35:M35) -> 0 | O35: =N35/2 -> 0 | P35: =N35/12 -> 0
A36: =aux!L4 -> Gasolina | B36: =Enero!B36 -> 0 | C36: =Febrero!B36 -> 0 | N36: =SUM(B36:M36) -> 0 | O36: =N36/2 -> 0 | P36: =N36/12 -> 0
A37: =aux!L5 -> Imp. Multas y seguro | B37: =Enero!B37 -> 0 | C37: =Febrero!B37 -> 0 | N37: =SUM(B37:M37) -> 0 | O37: =N37/2 -> 0 | P37: =N37/12 -> 0
A38: =aux!L6 -> Taller | B38: =Enero!B38 -> 0 | C38: =Febrero!B38 -> 0 | N38: =SUM(B38:M38) -> 0 | O38: =N38/2 -> 0 | P38: =N38/12 -> 0
A39: =aux!E4 -> MariCarmen | B39: =Enero!B39 -> 0 | C39: =Febrero!B39 -> 0 | N39: =SUM(B39:M39) -> 0 | O39: =N39/2 -> 0 | P39: =N39/12 -> 0
A40: =aux!M3 -> Complementos | B40: =Enero!B40 -> 0 | C40: =Febrero!B40 -> 0 | N40: =SUM(B40:M40) -> 0 | O40: =N40/2 -> 0 | P40: =N40/12 -> 0
...

Sheet Recibos
A1: Mes | B1: Día | C1: Importe | D1: Tipo | E1: Concepto | F1: Detalle
F67: {=IFERROR(INDEX(#REF!, SMALL(IF(ISERROR(#REF!), "", ROW(#REF!)-MIN(ROW(#REF!))+1), ROW(66:66))),"")}
F68: {=IFERROR(INDEX(#REF!, SMALL(IF(ISERROR(#REF!), "", ROW(#REF!)-MIN(ROW(#REF!))+1), ROW(67:67))),"")}
A69: {=IFERROR(INDEX(#REF!, SMALL(IF(ISERROR(#REF!), "", ROW(#REF!)-MIN(ROW(#REF!))+1), ROW(66:66))),"")} | B69: {=IFERROR(INDEX(#REF!, SMALL(IF(ISERROR(#REF!), "", ROW(#REF!)-MIN(ROW(#REF!))+1), ROW(66:66))),"")} | C69: {=IFERROR(INDEX(#REF!, SMALL(IF(ISERROR(#REF!), "", ROW(#REF!)-MIN(ROW(#REF!))+1), ROW(66:66))),"")} | D69: {=IFERROR(INDEX(#REF!, SMALL(IF(ISERROR(#REF!), "", ROW(#REF!)-MIN(ROW(#REF!))+1), ROW(66:66))),"")} | E69: {=IFERROR(INDEX(#REF!, SMALL(IF(ISERROR(#REF!), "", ROW(#REF!)-MIN(ROW(#REF!))+1), ROW(66:66))),"")} | F69: {=IFERROR(INDEX(#REF!, SMALL(IF(ISERROR(#REF!), "", ROW(#REF!)-MIN(ROW(#REF!))+1), ROW(68:68))),"")}
A70: {=IFERROR(INDEX(#REF!, SMALL(IF(ISERROR(#REF!), "", ROW(#REF!)-MIN(ROW(#REF!))+1), ROW(67:67))),"")} | B70: {=IFERROR(INDEX(#REF!, SMALL(IF(ISERROR(#REF!), "", ROW(#REF!)-MIN(ROW(#REF!))+1), ROW(67:67))),"")} | C70: {=IFERROR(INDEX(#REF!, SMALL(IF(ISERROR(#REF!), "", ROW(#REF!)-MIN(ROW(#REF!))+1), ROW(67:67))),"")} | D70: {=IFERROR(INDEX(#REF!, SMALL(IF(ISERROR(#REF!), "", ROW(#REF!)-MIN(ROW(#REF!))+1), ROW(67:67))),"")} | E70: {=IFERROR(INDEX(#REF!, SMALL(IF(ISERROR(#REF!), "", ROW(#REF!)-MIN(ROW(#REF!))+1), ROW(67:67))),"")} | F70: {=IFERROR(INDEX(#REF!, SMALL(IF(ISERROR(#REF!), "", ROW(#REF!)-MIN(ROW(#REF!))+1), ROW(69:69))),"")}
A71: {=IFERROR(INDEX(#REF!, SMALL(IF(ISERROR(#REF!), "", ROW(#REF!)-MIN(ROW(#REF!))+1), ROW(68:68))),"")} | B71: {=IFERROR(INDEX(#REF!, SMALL(IF(ISERROR(#REF!), "", ROW(#REF!)-MIN(ROW(#REF!))+1), ROW(68:68))),"")} | C71: {=IFERROR(INDEX(#REF!, SMALL(IF(ISERROR(#REF!), "", ROW(#REF!)-MIN(ROW(#REF!))+1), ROW(68:68))),"")} | D71: {=IFERROR(INDEX(#REF!, SMALL(IF(ISERROR(#REF!), "", ROW(#REF!)-MIN(ROW(#REF!))+1), ROW(68:68))),"")} | E71: {=IFERROR(INDEX(#REF!, SMALL(IF(ISERROR(#REF!), "", ROW(#REF!)-MIN(ROW(#REF!))+1), ROW(68:68))),"")} | F71: {=IFERROR(INDEX(#REF!, SMALL(IF(ISERROR(#REF!), "", ROW(#REF!)-MIN(ROW(#REF!))+1), ROW(70:70))),"")}
A72: {=IFERROR(INDEX(#REF!, SMALL(IF(ISERROR(#REF!), "", ROW(#REF!)-MIN(ROW(#REF!))+1), ROW(69:69))),"")} | B72: {=IFERROR(INDEX(#REF!, SMALL(IF(ISERROR(#REF!), "", ROW(#REF!)-MIN(ROW(#REF!))+1), ROW(69:69))),"")} | C72: {=IFERROR(INDEX(#REF!, SMALL(IF(ISERROR(#REF!), "", ROW(#REF!)-MIN(ROW(#REF!))+1), ROW(69:69))),"")} | D72: {=IFERROR(INDEX(#REF!, SMALL(IF(ISERROR(#REF!), "", ROW(#REF!)-MIN(ROW(#REF!))+1), ROW(69:69))),"")} | E72: {=IFERROR(INDEX(#REF!, SMALL(IF(ISERROR(#REF!), "", ROW(#REF!)-MIN(ROW(#REF!))+1), ROW(69:69))),"")} | F72: {=IFERROR(INDEX(#REF!, SMALL(IF(ISERROR(#REF!), "", ROW(#REF!)-MIN(ROW(#REF!))+1), ROW(71:71))),"")}
A73: {=IFERROR(INDEX(#REF!, SMALL(IF(ISERROR(#REF!), "", ROW(#REF!)-MIN(ROW(#REF!))+1), ROW(70:70))),"")} | B73: {=IFERROR(INDEX(#REF!, SMALL(IF(ISERROR(#REF!), "", ROW(#REF!)-MIN(ROW(#REF!))+1), ROW(70:70))),"")} | C73: {=IFERROR(INDEX(#REF!, SMALL(IF(ISERROR(#REF!), "", ROW(#REF!)-MIN(ROW(#REF!))+1), ROW(70:70))),"")} | D73: {=IFERROR(INDEX(#REF!, SMALL(IF(ISERROR(#REF!), "", ROW(#REF!)-MIN(ROW(#REF!))+1), ROW(70:70))),"")} | E73: {=IFERROR(INDEX(#REF!, SMALL(IF(ISERROR(#REF!), "", ROW(#REF!)-MIN(ROW(#REF!))+1), ROW(70:70))),"")} | F73: {=IFERROR(INDEX(#REF!, SMALL(IF(ISERROR(#REF!), "", ROW(#REF!)-MIN(ROW(#REF!))+1), ROW(72:72))),"")}
A74: {=IFERROR(INDEX(#REF!, SMALL(IF(ISERROR(#REF!), "", ROW(#REF!)-MIN(ROW(#REF!))+1), ROW(71:71))),"")} | B74: {=IFERROR(INDEX(#REF!, SMALL(IF(ISERROR(#REF!), "", ROW(#REF!)-MIN(ROW(#REF!))+1), ROW(71:71))),"")} | C74: {=IFERROR(INDEX(#REF!, SMALL(IF(ISERROR(#REF!), "", ROW(#REF!)-MIN(ROW(#REF!))+1), ROW(71:71))),"")} | D74: {=IFERROR(INDEX(#REF!, SMALL(IF(ISERROR(#REF!), "", ROW(#REF!)-MIN(ROW(#REF!))+1), ROW(71:71))),"")} | E74: {=IFERROR(INDEX(#REF!, SMALL(IF(ISERROR(#REF!), "", ROW(#REF!)-MIN(ROW(#REF!))+1), ROW(71:71))),"")} | F74: {=IFERROR(INDEX(#REF!, SMALL(IF(ISERROR(#REF!), "", ROW(#REF!)-MIN(ROW(#REF!))+1), ROW(73:73))),"")}
A75: {=IFERROR(INDEX(#REF!, SMALL(IF(ISERROR(#REF!), "", ROW(#REF!)-MIN(ROW(#REF!))+1), ROW(72:72))),"")} | B75: {=IFERROR(INDEX(#REF!, SMALL(IF(ISERROR(#REF!), "", ROW(#REF!)-MIN(ROW(#REF!))+1), ROW(72:72))),"")} | C75: {=IFERROR(INDEX(#REF!, SMALL(IF(ISERROR(#REF!), "", ROW(#REF!)-MIN(ROW(#REF!))+1), ROW(72:72))),"")} | D75: {=IFERROR(INDEX(#REF!, SMALL(IF(ISERROR(#REF!), "", ROW(#REF!)-MIN(ROW(#REF!))+1), ROW(72:72))),"")} | E75: {=IFERROR(INDEX(#REF!, SMALL(IF(ISERROR(#REF!), "", ROW(#REF!)-MIN(ROW(#REF!))+1), ROW(72:72))),"")} | F75: {=IFERROR(INDEX(#REF!, SMALL(IF(ISERROR(#REF!), "", ROW(#REF!)-MIN(ROW(#REF!))+1), ROW(74:74))),"")}
A76: {=IFERROR(INDEX(#REF!, SMALL(IF(ISERROR(#REF!), "", ROW(#REF!)-MIN(ROW(#REF!))+1), ROW(73:73))),"")} | B76: {=IFERROR(INDEX(#REF!, SMALL(IF(ISERROR(#REF!), "", ROW(#REF!)-MIN(ROW(#REF!))+1), ROW(73:73))),"")} | C76: {=IFERROR(INDEX(#REF!, SMALL(IF(ISERROR(#REF!), "", ROW(#REF!)-MIN(ROW(#REF!))+1), ROW(73:73))),"")} | D76: {=IFERROR(INDEX(#REF!, SMALL(IF(ISERROR(#REF!), "", ROW(#REF!)-MIN(ROW(#REF!))+1), ROW(73:73))),"")} | E76: {=IFERROR(INDEX(#REF!, SMALL(IF(ISERROR(#REF!), "", ROW(#REF!)-MIN(ROW(#REF!))+1), ROW(73:73))),"")} | F76: {=IFERROR(INDEX(#REF!, SMALL(IF(ISERROR(#REF!), "", ROW(#REF!)-MIN(ROW(#REF!))+1), ROW(75:75))),"")}
A77: {=IFERROR(INDEX(#REF!, SMALL(IF(ISERROR(#REF!), "", ROW(#REF!)-MIN(ROW(#REF!))+1), ROW(74:74))),"")} | B77: {=IFERROR(INDEX(#REF!, SMALL(IF(ISERROR(#REF!), "", ROW(#REF!)-MIN(ROW(#REF!))+1), ROW(74:74))),"")} | C77: {=IFERROR(INDEX(#REF!, SMALL(IF(ISERROR(#REF!), "", ROW(#REF!)-MIN(ROW(#REF!))+1), ROW(74:74))),"")} | D77: {=IFERROR(INDEX(#REF!, SMALL(IF(ISERROR(#REF!), "", ROW(#REF!)-MIN(ROW(#REF!))+1), ROW(74:74))),"")} | E77: {=IFERROR(INDEX(#REF!, SMALL(IF(ISERROR(#REF!), "", ROW(#REF!)-MIN(ROW(#REF!))+1), ROW(74:74))),"")} | F77: {=IFERROR(INDEX(#REF!, SMALL(IF(ISERROR(#REF!), "", ROW(#REF!)-MIN(ROW(#REF!))+1), ROW(76:76))),"")}
A78: {=IFERROR(INDEX(#REF!, SMALL(IF(ISERROR(#REF!), "", ROW(#REF!)-MIN(ROW(#REF!))+1), ROW(75:75))),"")} | B78: {=IFERROR(INDEX(#REF!, SMALL(IF(ISERROR(#REF!), "", ROW(#REF!)-MIN(ROW(#REF!))+1), ROW(75:75))),"")} | C78: {=IFERROR(INDEX(#REF!, SMALL(IF(ISERROR(#REF!), "", ROW(#REF!)-MIN(ROW(#REF!))+1), ROW(75:75))),"")} | D78: {=IFERROR(INDEX(#REF!, SMALL(IF(ISERROR(#REF!), "", ROW(#REF!)-MIN(ROW(#REF!))+1), ROW(75:75))),"")} | E78: {=IFERROR(INDEX(#REF!, SMALL(IF(ISERROR(#REF!), "", ROW(#REF!)-MIN(ROW(#REF!))+1), ROW(75:75))),"")} | F78: {=IFERROR(INDEX(#REF!, SMALL(IF(ISERROR(#REF!), "", ROW(#REF!)-MIN(ROW(#REF!))+1), ROW(77:77))),"")}
A79: {=IFERROR(INDEX(#REF!, SMALL(IF(ISERROR(#REF!), "", ROW(#REF!)-MIN(ROW(#REF!))+1), ROW(76:76))),"")} | B79: {=IFERROR(INDEX(#REF!, SMALL(IF(ISERROR(#REF!), "", ROW(#REF!)-MIN(ROW(#REF!))+1), ROW(76:76))),"")} | C79: {=IFERROR(INDEX(#REF!, SMALL(IF(ISERROR(#REF!), "", ROW(#REF!)-MIN(ROW(#REF!))+1), ROW(76:76))),"")} | D79: {=IFERROR(INDEX(#REF!, SMALL(IF(ISERROR(#REF!), "", ROW(#REF!)-MIN(ROW(#REF!))+1), ROW(76:76))),"")} | E79: {=IFERROR(INDEX(#REF!, SMALL(IF(ISERROR(#REF!), "", ROW(#REF!)-MIN(ROW(#REF!))+1), ROW(76:76))),"")} | F79: {=IFERROR(INDEX(#REF!, SMALL(IF(ISERROR(#REF!), "", ROW(#REF!)-MIN(ROW(#REF!))+1), ROW(78:78))),"")}
A80: {=IFERROR(INDEX(#REF!, SMALL(IF(ISERROR(#REF!), "", ROW(#REF!)-MIN(ROW(#REF!))+1), ROW(77:77))),"")} | B80: {=IFERROR(INDEX(#REF!, SMALL(IF(ISERROR(#REF!), "", ROW(#REF!)-MIN(ROW(#REF!))+1), ROW(77:77))),"")} | C80: {=IFERROR(INDEX(#REF!, SMALL(IF(ISERROR(#REF!), "", ROW(#REF!)-MIN(ROW(#REF!))+1), ROW(77:77))),"")} | D80: {=IFERROR(INDEX(#REF!, SMALL(IF(ISERROR(#REF!), "", ROW(#REF!)-MIN(ROW(#REF!))+1), ROW(77:77))),"")} | E80: {=IFERROR(INDEX(#REF!, SMALL(IF(ISERROR(#REF!), "", ROW(#REF!)-MIN(ROW(#REF!))+1), ROW(77:77))),"")} | F80: {=IFERROR(INDEX(#REF!, SMALL(IF(ISERROR(#REF!), "", ROW(#REF!)-MIN(ROW(#REF!))+1), ROW(79:79))),"")}
A81: {=IFERROR(INDEX(#REF!, SMALL(IF(ISERROR(#REF!), "", ROW(#REF!)-MIN(ROW(#REF!))+1), ROW(78:78))),"")} | B81: {=IFERROR(INDEX(#REF!, SMALL(IF(ISERROR(#REF!), "", ROW(#REF!)-MIN(ROW(#REF!))+1), ROW(78:78))),"")} | C81: {=IFERROR(INDEX(#REF!, SMALL(IF(ISERROR(#REF!), "", ROW(#REF!)-MIN(ROW(#REF!))+1), ROW(78:78))),"")} | D81: {=IFERROR(INDEX(#REF!, SMALL(IF(ISERROR(#REF!), "", ROW(#REF!)-MIN(ROW(#REF!))+1), ROW(78:78))),"")} | E81: {=IFERROR(INDEX(#REF!, SMALL(IF(ISERROR(#REF!), "", ROW(#REF!)-MIN(ROW(#REF!))+1), ROW(78:78))),"")} | F81: {=IFERROR(INDEX(#REF!, SMALL(IF(ISERROR(#REF!), "", ROW(#REF!)-MIN(ROW(#REF!))+1), ROW(80:80))),"")}
A82: {=IFERROR(INDEX(#REF!, SMALL(IF(ISERROR(#REF!), "", ROW(#REF!)-MIN(ROW(#REF!))+1), ROW(79:79))),"")} | B82: {=IFERROR(INDEX(#REF!, SMALL(IF(ISERROR(#REF!), "", ROW(#REF!)-MIN(ROW(#REF!))+1), ROW(79:79))),"")} | C82: {=IFERROR(INDEX(#REF!, SMALL(IF(ISERROR(#REF!), "", ROW(#REF!)-MIN(ROW(#REF!))+1), ROW(79:79))),"")} | D82: {=IFERROR(INDEX(#REF!, SMALL(IF(ISERROR(#REF!), "", ROW(#REF!)-MIN(ROW(#REF!))+1), ROW(79:79))),"")} | E82: {=IFERROR(INDEX(#REF!, SMALL(IF(ISERROR(#REF!), "", ROW(#REF!)-MIN(ROW(#REF!))+1), ROW(79:79))),"")} | F82: {=IFERROR(INDEX(#REF!, SMALL(IF(ISERROR(#REF!), "", ROW(#REF!)-MIN(ROW(#REF!))+1), ROW(81:81))),"")}
A83: {=IFERROR(INDEX(#REF!, SMALL(IF(ISERROR(#REF!), "", ROW(#REF!)-MIN(ROW(#REF!))+1), ROW(80:80))),"")} | B83: {=IFERROR(INDEX(#REF!, SMALL(IF(ISERROR(#REF!), "", ROW(#REF!)-MIN(ROW(#REF!))+1), ROW(80:80))),"")} | C83: {=IFERROR(INDEX(#REF!, SMALL(IF(ISERROR(#REF!), "", ROW(#REF!)-MIN(ROW(#REF!))+1), ROW(80:80))),"")} | D83: {=IFERROR(INDEX(#REF!, SMALL(IF(ISERROR(#REF!), "", ROW(#REF!)-MIN(ROW(#REF!))+1), ROW(80:80))),"")} | E83: {=IFERROR(INDEX(#REF!, SMALL(IF(ISERROR(#REF!), "", ROW(#REF!)-MIN(ROW(#REF!))+1), ROW(80:80))),"")} | F83: {=IFERROR(INDEX(#REF!, SMALL(IF(ISERROR(#REF!), "", ROW(#REF!)-MIN(ROW(#REF!))+1), ROW(82:82))),"")}
A84: {=IFERROR(INDEX(#REF!, SMALL(IF(ISERROR(#REF!), "", ROW(#REF!)-MIN(ROW(#REF!))+1), ROW(81:81))),"")} | B84: {=IFERROR(INDEX(#REF!, SMALL(IF(ISERROR(#REF!), "", ROW(#REF!)-MIN(ROW(#REF!))+1), ROW(81:81))),"")} | C84: {=IFERROR(INDEX(#REF!, SMALL(IF(ISERROR(#REF!), "", ROW(#REF!)-MIN(ROW(#REF!))+1), ROW(81:81))),"")} | D84: {=IFERROR(INDEX(#REF!, SMALL(IF(ISERROR(#REF!), "", ROW(#REF!)-MIN(ROW(#REF!))+1), ROW(81:81))),"")} | E84: {=IFERROR(INDEX(#REF!, SMALL(IF(ISERROR(#REF!), "", ROW(#REF!)-MIN(ROW(#REF!))+1), ROW(81:81))),"")} | F84: {=IFERROR(INDEX(#REF!, SMALL(IF(ISERROR(#REF!), "", ROW(#REF!)-MIN(ROW(#REF!))+1), ROW(83:83))),"")}
A85: {=IFERROR(INDEX(#REF!, SMALL(IF(ISERROR(#REF!), "", ROW(#REF!)-MIN(ROW(#REF!))+1), ROW(82:82))),"")} | B85: {=IFERROR(INDEX(#REF!, SMALL(IF(ISERROR(#REF!), "", ROW(#REF!)-MIN(ROW(#REF!))+1), ROW(82:82))),"")} | C85: {=IFERROR(INDEX(#REF!, SMALL(IF(ISERROR(#REF!), "", ROW(#REF!)-MIN(ROW(#REF!))+1), ROW(82:82))),"")} | D85: {=IFERROR(INDEX(#REF!, SMALL(IF(ISERROR(#REF!), "", ROW(#REF!)-MIN(ROW(#REF!))+1), ROW(82:82))),"")} | E85: {=IFERROR(INDEX(#REF!, SMALL(IF(ISERROR(#REF!), "", ROW(#REF!)-MIN(ROW(#REF!))+1), ROW(82:82))),"")} | F85: {=IFERROR(INDEX(#REF!, SMALL(IF(ISERROR(#REF!), "", ROW(#REF!)-MIN(ROW(#REF!))+1), ROW(84:84))),"")}
A86: {=IFERROR(INDEX(#REF!, SMALL(IF(ISERROR(#REF!), "", ROW(#REF!)-MIN(ROW(#REF!))+1), ROW(83:83))),"")} | B86: {=IFERROR(INDEX(#REF!, SMALL(IF(ISERROR(#REF!), "", ROW(#REF!)-MIN(ROW(#REF!))+1), ROW(83:83))),"")} | C86: {=IFERROR(INDEX(#REF!, SMALL(IF(ISERROR(#REF!), "", ROW(#REF!)-MIN(ROW(#REF!))+1), ROW(83:83))),"")} | D86: {=IFERROR(INDEX(#REF!, SMALL(IF(ISERROR(#REF!), "", ROW(#REF!)-MIN(ROW(#REF!))+1), ROW(83:83))),"")} | E86: {=IFERROR(INDEX(#REF!, SMALL(IF(ISERROR(#REF!), "", ROW(#REF!)-MIN(ROW(#REF!))+1), ROW(83:83))),"")} | F86: {=IFERROR(INDEX(#REF!, SMALL(IF(ISERROR(#REF!), "", ROW(#REF!)-MIN(ROW(#REF!))+1), ROW(85:85))),"")}
A87: {=IFERROR(INDEX(#REF!, SMALL(IF(ISERROR(#REF!), "", ROW(#REF!)-MIN(ROW(#REF!))+1), ROW(84:84))),"")} | B87: {=IFERROR(INDEX(#REF!, SMALL(IF(ISERROR(#REF!), "", ROW(#REF!)-MIN(ROW(#REF!))+1), ROW(84:84))),"")} | C87: {=IFERROR(INDEX(#REF!, SMALL(IF(ISERROR(#REF!), "", ROW(#REF!)-MIN(ROW(#REF!))+1), ROW(84:84))),"")} | D87: {=IFERROR(INDEX(#REF!, SMALL(IF(ISERROR(#REF!), "", ROW(#REF!)-MIN(ROW(#REF!))+1), ROW(84:84))),"")} | E87: {=IFERROR(INDEX(#REF!, SMALL(IF(ISERROR(#REF!), "", ROW(#REF!)-MIN(ROW(#REF!))+1), ROW(84:84))),"")} | F87: {=IFERROR(INDEX(#REF!, SMALL(IF(ISERROR(#REF!), "", ROW(#REF!)-MIN(ROW(#REF!))+1), ROW(86:86))),"")}
A88: {=IFERROR(INDEX(#REF!, SMALL(IF(ISERROR(#REF!), "", ROW(#REF!)-MIN(ROW(#REF!))+1), ROW(85:85))),"")} | B88: {=IFERROR(INDEX(#REF!, SMALL(IF(ISERROR(#REF!), "", ROW(#REF!)-MIN(ROW(#REF!))+1), ROW(85:85))),"")} | C88: {=IFERROR(INDEX(#REF!, SMALL(IF(ISERROR(#REF!), "", ROW(#REF!)-MIN(ROW(#REF!))+1), ROW(85:85))),"")} | D88: {=IFERROR(INDEX(#REF!, SMALL(IF(ISERROR(#REF!), "", ROW(#REF!)-MIN(ROW(#REF!))+1), ROW(85:85))),"")} | E88: {=IFERROR(INDEX(#REF!, SMALL(IF(ISERROR(#REF!), "", ROW(#REF!)-MIN(ROW(#REF!))+1), ROW(85:85))),"")} | F88: {=IFERROR(INDEX(#REF!, SMALL(IF(ISERROR(#REF!), "", ROW(#REF!)-MIN(ROW(#REF!))+1), ROW(87:87))),"")}
A89: {=IFERROR(INDEX(#REF!, SMALL(IF(ISERROR(#REF!), "", ROW(#REF!)-MIN(ROW(#REF!))+1), ROW(86:86))),"")} | B89: {=IFERROR(INDEX(#REF!, SMALL(IF(ISERROR(#REF!), "", ROW(#REF!)-MIN(ROW(#REF!))+1), ROW(86:86))),"")} | C89: {=IFERROR(INDEX(#REF!, SMALL(IF(ISERROR(#REF!), "", ROW(#REF!)-MIN(ROW(#REF!))+1), ROW(86:86))),"")} | D89: {=IFERROR(INDEX(#REF!, SMALL(IF(ISERROR(#REF!), "", ROW(#REF!)-MIN(ROW(#REF!))+1), ROW(86:86))),"")} | E89: {=IFERROR(INDEX(#REF!, SMALL(IF(ISERROR(#REF!), "", ROW(#REF!)-MIN(ROW(#REF!))+1), ROW(86:86))),"")} | F89: {=IFERROR(INDEX(#REF!, SMALL(IF(ISERROR(#REF!), "", ROW(#REF!)-MIN(ROW(#REF!))+1), ROW(88:88))),"")}
A90: {=IFERROR(INDEX(#REF!, SMALL(IF(ISERROR(#REF!), "", ROW(#REF!)-MIN(ROW(#REF!))+1), ROW(87:87))),"")} | B90: {=IFERROR(INDEX(#REF!, SMALL(IF(ISERROR(#REF!), "", ROW(#REF!)-MIN(ROW(#REF!))+1), ROW(87:87))),"")} | C90: {=IFERROR(INDEX(#REF!, SMALL(IF(ISERROR(#REF!), "", ROW(#REF!)-MIN(ROW(#REF!))+1), ROW(87:87))),"")} | D90: {=IFERROR(INDEX(#REF!, SMALL(IF(ISERROR(#REF!), "", ROW(#REF!)-MIN(ROW(#REF!))+1), ROW(87:87))),"")} | E90: {=IFERROR(INDEX(#REF!, SMALL(IF(ISERROR(#REF!), "", ROW(#REF!)-MIN(ROW(#REF!))+1), ROW(87:87))),"")} | F90: {=IFERROR(INDEX(#REF!, SMALL(IF(ISERROR(#REF!), "", ROW(#REF!)-MIN(ROW(#REF!))+1), ROW(89:89))),"")}
A91: {=IFERROR(INDEX(#REF!, SMALL(IF(ISERROR(#REF!), "", ROW(#REF!)-MIN(ROW(#REF!))+1), ROW(88:88))),"")} | B91: {=IFERROR(INDEX(#REF!, SMALL(IF(ISERROR(#REF!), "", ROW(#REF!)-MIN(ROW(#REF!))+1), ROW(88:88))),"")} | C91: {=IFERROR(INDEX(#REF!, SMALL(IF(ISERROR(#REF!), "", ROW(#REF!)-MIN(ROW(#REF!))+1), ROW(88:88))),"")} | D91: {=IFERROR(INDEX(#REF!, SMALL(IF(ISERROR(#REF!), "", ROW(#REF!)-MIN(ROW(#REF!))+1), ROW(88:88))),"")} | E91: {=IFERROR(INDEX(#REF!, SMALL(IF(ISERROR(#REF!), "", ROW(#REF!)-MIN(ROW(#REF!))+1), ROW(88:88))),"")} | F91: {=IFERROR(INDEX(#REF!, SMALL(IF(ISERROR(#REF!), "", ROW(#REF!)-MIN(ROW(#REF!))+1), ROW(90:90))),"")}
A92: {=IFERROR(INDEX(#REF!, SMALL(IF(ISERROR(#REF!), "", ROW(#REF!)-MIN(ROW(#REF!))+1), ROW(89:89))),"")} | B92: {=IFERROR(INDEX(#REF!, SMALL(IF(ISERROR(#REF!), "", ROW(#REF!)-MIN(ROW(#REF!))+1), ROW(89:89))),"")} | C92: {=IFERROR(INDEX(#REF!, SMALL(IF(ISERROR(#REF!), "", ROW(#REF!)-MIN(ROW(#REF!))+1), ROW(89:89))),"")} | D92: {=IFERROR(INDEX(#REF!, SMALL(IF(ISERROR(#REF!), "", ROW(#REF!)-MIN(ROW(#REF!))+1), ROW(89:89))),"")} | E92: {=IFERROR(INDEX(#REF!, SMALL(IF(ISERROR(#REF!), "", ROW(#REF!)-MIN(ROW(#REF!))+1), ROW(89:89))),"")} | F92: {=IFERROR(INDEX(#REF!, SMALL(IF(ISERROR(#REF!), "", ROW(#REF!)-MIN(ROW(#REF!))+1), ROW(91:91))),"")}
A93: {=IFERROR(INDEX(#REF!, SMALL(IF(ISERROR(#REF!), "", ROW(#REF!)-MIN(ROW(#REF!))+1), ROW(90:90))),"")} | B93: {=IFERROR(INDEX(#REF!, SMALL(IF(ISERROR(#REF!), "", ROW(#REF!)-MIN(ROW(#REF!))+1), ROW(90:90))),"")} | C93: {=IFERROR(INDEX(#REF!, SMALL(IF(ISERROR(#REF!), "", ROW(#REF!)-MIN(ROW(#REF!))+1), ROW(90:90))),"")} | D93: {=IFERROR(INDEX(#REF!, SMALL(IF(ISERROR(#REF!), "", ROW(#REF!)-MIN(ROW(#REF!))+1), ROW(90:90))),"")} | E93: {=IFERROR(INDEX(#REF!, SMALL(IF(ISERROR(#REF!), "", ROW(#REF!)-MIN(ROW(#REF!))+1), ROW(90:90))),"")} | F93: {=IFERROR(INDEX(#REF!, SMALL(IF(ISERROR(#REF!), "", ROW(#REF!)-MIN(ROW(#REF!))+1), ROW(92:92))),"")}
A94: {=IFERROR(INDEX(#REF!, SMALL(IF(ISERROR(#REF!), "", ROW(#REF!)-MIN(ROW(#REF!))+1), ROW(91:91))),"")} | B94: {=IFERROR(INDEX(#REF!, SMALL(IF(ISERROR(#REF!), "", ROW(#REF!)-MIN(ROW(#REF!))+1), ROW(91:91))),"")} | C94: {=IFERROR(INDEX(#REF!, SMALL(IF(ISERROR(#REF!), "", ROW(#REF!)-MIN(ROW(#REF!))+1), ROW(91:91))),"")} | D94: {=IFERROR(INDEX(#REF!, SMALL(IF(ISERROR(#REF!), "", ROW(#REF!)-MIN(ROW(#REF!))+1), ROW(91:91))),"")} | E94: {=IFERROR(INDEX(#REF!, SMALL(IF(ISERROR(#REF!), "", ROW(#REF!)-MIN(ROW(#REF!))+1), ROW(91:91))),"")} | F94: {=IFERROR(INDEX(#REF!, SMALL(IF(ISERROR(#REF!), "", ROW(#REF!)-MIN(ROW(#REF!))+1), ROW(93:93))),"")}
A95: {=IFERROR(INDEX(#REF!, SMALL(IF(ISERROR(#REF!), "", ROW(#REF!)-MIN(ROW(#REF!))+1), ROW(92:92))),"")} | B95: {=IFERROR(INDEX(#REF!, SMALL(IF(ISERROR(#REF!), "", ROW(#REF!)-MIN(ROW(#REF!))+1), ROW(92:92))),"")} | C95: {=IFERROR(INDEX(#REF!, SMALL(IF(ISERROR(#REF!), "", ROW(#REF!)-MIN(ROW(#REF!))+1), ROW(92:92))),"")} | D95: {=IFERROR(INDEX(#REF!, SMALL(IF(ISERROR(#REF!), "", ROW(#REF!)-MIN(ROW(#REF!))+1), ROW(92:92))),"")} | E95: {=IFERROR(INDEX(#REF!, SMALL(IF(ISERROR(#REF!), "", ROW(#REF!)-MIN(ROW(#REF!))+1), ROW(92:92))),"")} | F95: {=IFERROR(INDEX(#REF!, SMALL(IF(ISERROR(#REF!), "", ROW(#REF!)-MIN(ROW(#REF!))+1), ROW(94:94))),"")}
A96: {=IFERROR(INDEX(#REF!, SMALL(IF(ISERROR(#REF!), "", ROW(#REF!)-MIN(ROW(#REF!))+1), ROW(93:93))),"")} | B96: {=IFERROR(INDEX(#REF!, SMALL(IF(ISERROR(#REF!), "", ROW(#REF!)-MIN(ROW(#REF!))+1), ROW(93:93))),"")} | C96: {=IFERROR(INDEX(#REF!, SMALL(IF(ISERROR(#REF!), "", ROW(#REF!)-MIN(ROW(#REF!))+1), ROW(93:93))),"")} | D96: {=IFERROR(INDEX(#REF!, SMALL(IF(ISERROR(#REF!), "", ROW(#REF!)-MIN(ROW(#REF!))+1), ROW(93:93))),"")} | E96: {=IFERROR(INDEX(#REF!, SMALL(IF(ISERROR(#REF!), "", ROW(#REF!)-MIN(ROW(#REF!))+1), ROW(93:93))),"")} | F96: {=IFERROR(INDEX(#REF!, SMALL(IF(ISERROR(#REF!), "", ROW(#REF!)-MIN(ROW(#REF!))+1), ROW(95:95))),"")}
A97: {=IFERROR(INDEX(#REF!, SMALL(IF(ISERROR(#REF!), "", ROW(#REF!)-MIN(ROW(#REF!))+1), ROW(94:94))),"")} | B97: {=IFERROR(INDEX(#REF!, SMALL(IF(ISERROR(#REF!), "", ROW(#REF!)-MIN(ROW(#REF!))+1), ROW(94:94))),"")} | C97: {=IFERROR(INDEX(#REF!, SMALL(IF(ISERROR(#REF!), "", ROW(#REF!)-MIN(ROW(#REF!))+1), ROW(94:94))),"")} | D97: {=IFERROR(INDEX(#REF!, SMALL(IF(ISERROR(#REF!), "", ROW(#REF!)-MIN(ROW(#REF!))+1), ROW(94:94))),"")} | E97: {=IFERROR(INDEX(#REF!, SMALL(IF(ISERROR(#REF!), "", ROW(#REF!)-MIN(ROW(#REF!))+1), ROW(94:94))),"")} | F97: {=IFERROR(INDEX(#REF!, SMALL(IF(ISERROR(#REF!), "", ROW(#REF!)-MIN(ROW(#REF!))+1), ROW(96:96))),"")}
A98: {=IFERROR(INDEX(#REF!, SMALL(IF(ISERROR(#REF!), "", ROW(#REF!)-MIN(ROW(#REF!))+1), ROW(95:95))),"")} | B98: {=IFERROR(INDEX(#REF!, SMALL(IF(ISERROR(#REF!), "", ROW(#REF!)-MIN(ROW(#REF!))+1), ROW(95:95))),"")} | C98: {=IFERROR(INDEX(#REF!, SMALL(IF(ISERROR(#REF!), "", ROW(#REF!)-MIN(ROW(#REF!))+1), ROW(95:95))),"")} | D98: {=IFERROR(INDEX(#REF!, SMALL(IF(ISERROR(#REF!), "", ROW(#REF!)-MIN(ROW(#REF!))+1), ROW(95:95))),"")} | E98: {=IFERROR(INDEX(#REF!, SMALL(IF(ISERROR(#REF!), "", ROW(#REF!)-MIN(ROW(#REF!))+1), ROW(95:95))),"")} | F98: {=IFERROR(INDEX(#REF!, SMALL(IF(ISERROR(#REF!), "", ROW(#REF!)-MIN(ROW(#REF!))+1), ROW(97:97))),"")}
A99: {=IFERROR(INDEX(#REF!, SMALL(IF(ISERROR(#REF!), "", ROW(#REF!)-MIN(ROW(#REF!))+1), ROW(96:96))),"")} | B99: {=IFERROR(INDEX(#REF!, SMALL(IF(ISERROR(#REF!), "", ROW(#REF!)-MIN(ROW(#REF!))+1), ROW(96:96))),"")} | C99: {=IFERROR(INDEX(#REF!, SMALL(IF(ISERROR(#REF!), "", ROW(#REF!)-MIN(ROW(#REF!))+1), ROW(96:96))),"")} | D99: {=IFERROR(INDEX(#REF!, SMALL(IF(ISERROR(#REF!), "", ROW(#REF!)-MIN(ROW(#REF!))+1), ROW(96:96))),"")} | E99: {=IFERROR(INDEX(#REF!, SMALL(IF(ISERROR(#REF!), "", ROW(#REF!)-MIN(ROW(#REF!))+1), ROW(96:96))),"")} | F99: {=IFERROR(INDEX(#REF!, SMALL(IF(ISERROR(#REF!), "", ROW(#REF!)-MIN(ROW(#REF!))+1), ROW(98:98))),"")}
A100: {=IFERROR(INDEX(#REF!, SMALL(IF(ISERROR(#REF!), "", ROW(#REF!)-MIN(ROW(#REF!))+1), ROW(97:97))),"")} | B100: {=IFERROR(INDEX(#REF!, SMALL(IF(ISERROR(#REF!), "", ROW(#REF!)-MIN(ROW(#REF!))+1), ROW(97:97))),"")} | C100: {=IFERROR(INDEX(#REF!, SMALL(IF(ISERROR(#REF!), "", ROW(#REF!)-MIN(ROW(#REF!))+1), ROW(97:97))),"")} | D100: {=IFERROR(INDEX(#REF!, SMALL(IF(ISERROR(#REF!), "", ROW(#REF!)-MIN(ROW(#REF!))+1), ROW(97:97))),"")} | E100: {=IFERROR(INDEX(#REF!, SMALL(IF(ISERROR(#REF!), "", ROW(#REF!)-MIN(ROW(#REF!))+1), ROW(97:97))),"")} | F100: {=IFERROR(INDEX(#REF!, SMALL(IF(ISERROR(#REF!), "", ROW(#REF!)-MIN(ROW(#REF!))+1), ROW(99:99))),"")}
A101: {=IFERROR(INDEX(#REF!, SMALL(IF(ISERROR(#REF!), "", ROW(#REF!)-MIN(ROW(#REF!))+1), ROW(98:98))),"")} | B101: {=IFERROR(INDEX(#REF!, SMALL(IF(ISERROR(#REF!), "", ROW(#REF!)-MIN(ROW(#REF!))+1), ROW(98:98))),"")} | C101: {=IFERROR(INDEX(#REF!, SMALL(IF(ISERROR(#REF!), "", ROW(#REF!)-MIN(ROW(#REF!))+1), ROW(98:98))),"")} | D101: {=IFERROR(INDEX(#REF!, SMALL(IF(ISERROR(#REF!), "", ROW(#REF!)-MIN(ROW(#REF!))+1), ROW(98:98))),"")} | E101: {=IFERROR(INDEX(#REF!, SMALL(IF(ISERROR(#REF!), "", ROW(#REF!)-MIN(ROW(#REF!))+1), ROW(98:98))),"")} | F101: {=IFERROR(INDEX(#REF!, SMALL(IF(ISERROR(#REF!), "", ROW(#REF!)-MIN(ROW(#REF!))+1), ROW(100:100))),"")}
A102: {=IFERROR(INDEX(#REF!, SMALL(IF(ISERROR(#REF!), "", ROW(#REF!)-MIN(ROW(#REF!))+1), ROW(99:99))),"")} | B102: {=IFERROR(INDEX(#REF!, SMALL(IF(ISERROR(#REF!), "", ROW(#REF!)-MIN(ROW(#REF!))+1), ROW(99:99))),"")} | C102: {=IFERROR(INDEX(#REF!, SMALL(IF(ISERROR(#REF!), "", ROW(#REF!)-MIN(ROW(#REF!))+1), ROW(99:99))),"")} | D102: {=IFERROR(INDEX(#REF!, SMALL(IF(ISERROR(#REF!), "", ROW(#REF!)-MIN(ROW(#REF!))+1), ROW(99:99))),"")} | E102: {=IFERROR(INDEX(#REF!, SMALL(IF(ISERROR(#REF!), "", ROW(#REF!)-MIN(ROW(#REF!))+1), ROW(99:99))),"")} | F102: {=IFERROR(INDEX(#REF!, SMALL(IF(ISERROR(#REF!), "", ROW(#REF!)-MIN(ROW(#REF!))+1), ROW(101:101))),"")}
A103: {=IFERROR(INDEX(#REF!, SMALL(IF(ISERROR(#REF!), "", ROW(#REF!)-MIN(ROW(#REF!))+1), ROW(100:100))),"")} | B103: {=IFERROR(INDEX(#REF!, SMALL(IF(ISERROR(#REF!), "", ROW(#REF!)-MIN(ROW(#REF!))+1), ROW(100:100))),"")} | C103: {=IFERROR(INDEX(#REF!, SMALL(IF(ISERROR(#REF!), "", ROW(#REF!)-MIN(ROW(#REF!))+1), ROW(100:100))),"")} | D103: {=IFERROR(INDEX(#REF!, SMALL(IF(ISERROR(#REF!), "", ROW(#REF!)-MIN(ROW(#REF!))+1), ROW(100:100))),"")} | E103: {=IFERROR(INDEX(#REF!, SMALL(IF(ISERROR(#REF!), "", ROW(#REF!)-MIN(ROW(#REF!))+1), ROW(100:100))),"")} | F103: {=IFERROR(INDEX(#REF!, SMALL(IF(ISERROR(#REF!), "", ROW(#REF!)-MIN(ROW(#REF!))+1), ROW(102:102))),"")}
A104: {=IFERROR(INDEX(#REF!, SMALL(IF(ISERROR(#REF!), "", ROW(#REF!)-MIN(ROW(#REF!))+1), ROW(101:101))),"")} | B104: {=IFERROR(INDEX(#REF!, SMALL(IF(ISERROR(#REF!), "", ROW(#REF!)-MIN(ROW(#REF!))+1), ROW(101:101))),"")} | C104: {=IFERROR(INDEX(#REF!, SMALL(IF(ISERROR(#REF!), "", ROW(#REF!)-MIN(ROW(#REF!))+1), ROW(101:101))),"")} | D104: {=IFERROR(INDEX(#REF!, SMALL(IF(ISERROR(#REF!), "", ROW(#REF!)-MIN(ROW(#REF!))+1), ROW(101:101))),"")} | E104: {=IFERROR(INDEX(#REF!, SMALL(IF(ISERROR(#REF!), "", ROW(#REF!)-MIN(ROW(#REF!))+1), ROW(101:101))),"")} | F104: {=IFERROR(INDEX(#REF!, SMALL(IF(ISERROR(#REF!), "", ROW(#REF!)-MIN(ROW(#REF!))+1), ROW(103:103))),"")}
A105: {=IFERROR(INDEX(#REF!, SMALL(IF(ISERROR(#REF!), "", ROW(#REF!)-MIN(ROW(#REF!))+1), ROW(102:102))),"")} | B105: {=IFERROR(INDEX(#REF!, SMALL(IF(ISERROR(#REF!), "", ROW(#REF!)-MIN(ROW(#REF!))+1), ROW(102:102))),"")} | C105: {=IFERROR(INDEX(#REF!, SMALL(IF(ISERROR(#REF!), "", ROW(#REF!)-MIN(ROW(#REF!))+1), ROW(102:102))),"")} | D105: {=IFERROR(INDEX(#REF!, SMALL(IF(ISERROR(#REF!), "", ROW(#REF!)-MIN(ROW(#REF!))+1), ROW(102:102))),"")} | E105: {=IFERROR(INDEX(#REF!, SMALL(IF(ISERROR(#REF!), "", ROW(#REF!)-MIN(ROW(#REF!))+1), ROW(102:102))),"")} | F105: {=IFERROR(INDEX(#REF!, SMALL(IF(ISERROR(#REF!), "", ROW(#REF!)-MIN(ROW(#REF!))+1), ROW(104:104))),"")}
...

Sheet Gasolina
A1: 2018 | B1: Enero | C1: Febrero | D1: Marzo | E1: Abril | F1: Mayo | G1: Junio | H1: Julio | I1: Agosto | J1: Septiembre | K1: Octubre | L1: Noviembre | M1: Diciembre | N1: Total | O1: Media por mes | P1: Media total
A2: Gasolina | B2: =SUM(B4+B11) -> 0 | C2: =SUM(C4+C11) -> 0 | N2: =SUM(B2:M2) -> 0 | O2: =SUM(B2:M2)/2 -> 0 | P2: =SUM(B2:M2)/12 -> 0
A4: JoseMari | B4: =SUMIFS(Enero!$E:$E,Enero!$F:$F,"Transporte",Enero!$G:$G,"JoseMari",Enero!$H:$H,"Gasolina") -> 0 | C4: =SUMIFS(Febrero!$E:$E,Febrero!$F:$F,"Transporte",Febrero!$G:$G,"JoseMari",Febrero!$H:$H,"Gasolina") -> 0 | N4: =SUM(B4:M4) -> 0 | O4: =SUM(B4:M4)/2 -> 0 | P4: =SUM(B4:M4)/12 -> 0
A5: Litros | B5: =SUMIFS(Enero!$J:$J,Enero!$F:$F,"Transporte",Enero!$G:$G,"JoseMari",Enero!$H:$H,"Gasolina") -> 0 | C5: =SUMIFS(Febrero!$J:$J,Febrero!$F:$F,"Transporte",Febrero!$G:$G,"JoseMari",Febrero!$H:$H,"Gasolina") -> 0 | N5: =SUM(B5:M5) -> 0 | O5: =SUM(B5:M5)/2 -> 0 | P5: =SUM(B5:M5)/12 -> 0
A6: L/100 | B6: =(B5*100)/B8 -> 0 | C6: =(C5*100)/C8 -> 0 | N6: =SUM(B6:M6) -> 0 | O6: =SUM(B6:M6)/2 -> 0 | P6: =SUM(B6:M6)/12 -> 0
A7: €/100 | B7: =(B4*100)/B8 -> 0 | C7: =(C4*100)/C8 -> 0 | N7: =SUM(B7:M7)/12 -> 0 | O7: =SUM(B7:M7)/2 -> 0 | P7: =SUM(B7:M7)/12 -> 0
A8: KM Mes | B8: =B9-[1]Gasolina!$N$9 -> 1091 | C8: =C9-B9 -> 418 | N8: =SUM(B8:M8) -> 1509 | O8: =SUM(B8:M8)/2 -> 754.5 | P8: =SUM(B8:M8)/12 -> 125.75
A9: KM Totales | B9: 158689 | C9: 159107 | N9: =B9 -> 158689
A11: MariCarmen | B11: =SUMIFS(Enero!$E:$E,Enero!$F:$F,"Transporte",Enero!$G:$G,"MariCarmen",Enero!$H:$H,"Gasolina") -> 0 | C11: =SUMIFS(Febrero!$E:$E,Febrero!$F:$F,"Transporte",Febrero!$G:$G,"MariCarmen",Febrero!$H:$H,"Gasolina") -> 0 | N11: =SUM(B11:M11) -> 0 | O11: =SUM(B11:M11)/2 -> 0 | P11: =SUM(B11:M11)/12 -> 0
A12: Litros | B12: =SUMIFS(Enero!$J:$J,Enero!$F:$F,"Transporte",Enero!$G:$G,"MariCarmen",Enero!$H:$H,"Gasolina") -> 0 | C12: =SUMIFS(Febrero!$J:$J,Febrero!$F:$F,"Transporte",Febrero!$G:$G,"MariCarmen",Febrero!$H:$H,"Gasolina") -> 0 | N12: =SUM(B12:M12) -> 0 | O12: =SUM(B12:M12)/2 -> 0 | P12: =SUM(B12:M12)/12 -> 0
A13: L/100 | B13: =(B12*100)/B15 -> 0 | C13: =(C12*100)/C15 -> 0 | N13: =SUM(B13:M13) -> 0 | O13: =SUM(B13:M13)/2 -> 0 | P13: =SUM(B13:M13)/12 -> 0
A14: €/100 | B14: =(B11*100)/B15 -> 0 | C14: =(C11*100)/C15 -> 0 | N14: =SUM(B14:M14)/12 -> 0 | O14: =SUM(B14:M14)/2 -> 0 | P14: =SUM(B14:M14)/12 -> 0
A15: KM Mes | B15: =B16-[1]Gasolina!$N$16 -> 255 | C15: =C16-B16 -> 181 | N15: =SUM(B15:M15) -> 436 | O15: =SUM(B15:M15)/2 -> 218 | P15: =SUM(B15:M15)/12 -> 36.333333
A16: KM Totales | B16: 79899 | C16: 80080 | N16: =B16 -> 79899
A18: Total KM Mes | B18: =B8+B15 -> 1346 | C18: =C8+C15 -> 599 | N18: =N8+N15 -> 1945 | O18: =O8+O15 -> 972.5 | P18: =P8+P15 -> 162.08333
K45: http://www.dieselogasolina.com/Estadisticas/Historico

Sheet Alimentación
A1: Alimentación | B1: Enero | C1: Febrero | D1: Marzo | E1: Abril | F1: Mayo | G1: Junio | H1: Julio | I1: Agosto | J1: Septiembre | K1: Octubre | L1: Noviembre | M1: Diciembre | N1: Total | O1: Media por mes | P1: Media total
A2: =auxalimen!A1 -> Aliños | B2: =Enero!M2 -> 0 | C2: =Febrero!M2 -> 0 | N2: =SUM(B2:M2) -> 0 | O2: =N2/2 -> 0 | P2: =N2/12 -> 0
A3: =auxalimen!A2 -> Aceite | B3: =Enero!M3 -> 0 | C3: =Febrero!M3 -> 0 | N3: =SUM(B3:M3) -> 0 | O3: =N3/2 -> 0 | P3: =N3/12 -> 0
A4: =auxalimen!A3 -> Condimentos | B4: =Enero!M4 -> 0 | C4: =Febrero!M4 -> 0 | N4: =SUM(B4:M4) -> 0 | O4: =N4/2 -> 0 | P4: =N4/12 -> 0
A5: =auxalimen!A4 -> Mayonesa | B5: =Enero!M5 -> 0 | C5: =Febrero!M5 -> 0 | N5: =SUM(B5:M5) -> 0 | O5: =N5/2 -> 0 | P5: =N5/12 -> 0
A6: =auxalimen!A5 -> Salsas | B6: =Enero!M6 -> 0 | C6: =Febrero!M6 -> 0 | N6: =SUM(B6:M6) -> 0 | O6: =N6/2 -> 0 | P6: =N6/12 -> 0
A7: =auxalimen!A6 -> Vinagre | B7: =Enero!M7 -> 0 | C7: =Febrero!M7 -> 0 | N7: =SUM(B7:M7) -> 0 | O7: =N7/2 -> 0 | P7: =N7/12 -> 0
A8: =auxalimen!A7 -> Otros | B8: =Enero!M8 -> 0 | C8: =Febrero!M8 -> 0 | N8: =SUM(B8:M8) -> 0 | O8: =N8/2 -> 0 | P8: =N8/12 -> 0
A9: =auxalimen!B1 -> Aperitivos | B9: =Enero!M9 -> 0 | C9: =Febrero!M9 -> 0 | N9: =SUM(B9:M9) -> 0 | O9: =N9/2 -> 0 | P9: =N9/12 -> 0
A10: =auxalimen!B2 -> Aceitunas | B10: =Enero!M10 -> 0 | C10: =Febrero!M10 -> 0 | N10: =SUM(B10:M10) -> 0 | O10: =N10/2 -> 0 | P10: =N10/12 -> 0
A11: =auxalimen!B3 -> Dulces | B11: =Enero!M11 -> 0 | C11: =Febrero!M11 -> 0 | N11: =SUM(B11:M11) -> 0 | O11: =N11/2 -> 0 | P11: =N11/12 -> 0
A12: =auxalimen!B4 -> Nachos | B12: =Enero!M12 -> 0 | C12: =Febrero!M12 -> 0 | N12: =SUM(B12:M12) -> 0 | O12: =N12/2 -> 0 | P12: =N12/12 -> 0
A13: =auxalimen!B5 -> Frutos secos | B13: =Enero!M13 -> 0 | C13: =Febrero!M13 -> 0 | N13: =SUM(B13:M13) -> 0 | O13: =N13/2 -> 0 | P13: =N13/12 -> 0
A14: =auxalimen!B6 -> Patatas fritas | B14: =Enero!M14 -> 0 | C14: =Febrero!M14 -> 0 | N14: =SUM(B14:M14) -> 0 | O14: =N14/2 -> 0 | P14: =N14/12 -> 0
A15: =auxalimen!B7 -> Otros | B15: =Enero!M15 -> 0 | C15: =Febrero!M15 -> 0 | N15: =SUM(B15:M15) -> 0 | O15: =N15/2 -> 0 | P15: =N15/12 -> 0
A16: =auxalimen!C1 -> Bebidas | B16: =Enero!M16 -> 0 | C16: =Febrero!M16 -> 0 | N16: =SUM(B16:M16) -> 0 | O16: =N16/2 -> 0 | P16: =N16/12 -> 0
A17: =auxalimen!C2 -> Aquarius | B17: =Enero!M17 -> 0 | C17: =Febrero!M17 -> 0 | N17: =SUM(B17:M17) -> 0 | O17: =N17/2 -> 0 | P17: =N17/12 -> 0
A18: =auxalimen!C3 -> Cerveza | B18: =Enero!M18 -> 0 | C18: =Febrero!M18 -> 0 | N18: =SUM(B18:M18) -> 0 | O18: =N18/2 -> 0 | P18: =N18/12 -> 0
A19: =auxalimen!C4 -> Coca cola | B19: =Enero!M19 -> 0 | C19: =Febrero!M19 -> 0 | N19: =SUM(B19:M19) -> 0 | O19: =N19/2 -> 0 | P19: =N19/12 -> 0
A20: =auxalimen!C5 -> Vino | B20: =Enero!M20 -> 0 | C20: =Febrero!M20 -> 0 | N20: =SUM(B20:M20) -> 0 | O20: =N20/2 -> 0 | P20: =N20/12 -> 0
A21: =auxalimen!C6 -> Zumo | B21: =Enero!M21 -> 0 | C21: =Febrero!M21 -> 0 | N21: =SUM(B21:M21) -> 0 | O21: =N21/2 -> 0 | P21: =N21/12 -> 0
A22: =auxalimen!C7 -> Otras | B22: =Enero!M22 -> 0 | C22: =Febrero!M22 -> 0 | N22: =SUM(B22:M22) -> 0 | O22: =N22/2 -> 0 | P22: =N22/12 -> 0
A23: =auxalimen!D1 -> Carne | B23: =Enero!M23 -> 0 | C23: =Febrero!M23 -> 0 | N23: =SUM(B23:M23) -> 0 | O23: =N23/2 -> 0 | P23: =N23/12 -> 0
A24: =auxalimen!D2 -> Cerdo | B24: =Enero!M24 -> 0 | C24: =Febrero!M24 -> 0 | N24: =SUM(B24:M24) -> 0 | O24: =N24/2 -> 0 | P24: =N24/12 -> 0
A25: =auxalimen!D3 -> Pavo | B25: =Enero!M25 -> 0 | C25: =Febrero!M25 -> 0 | N25: =SUM(B25:M25) -> 0 | O25: =N25/2 -> 0 | P25: =N25/12 -> 0
A26: =auxalimen!D4 -> Pollo | B26: =Enero!M26 -> 0 | C26: =Febrero!M26 -> 0 | N26: =SUM(B26:M26) -> 0 | O26: =N26/2 -> 0 | P26: =N26/12 -> 0
A27: =auxalimen!D5 -> Ternera | B27: =Enero!M27 -> 0 | C27: =Febrero!M27 -> 0 | N27: =SUM(B27:M27) -> 0 | O27: =N27/2 -> 0 | P27: =N27/12 -> 0
A28: =auxalimen!D6 -> Otros | B28: =Enero!M28 -> 0 | C28: =Febrero!M28 -> 0 | N28: =SUM(B28:M28) -> 0 | O28: =N28/2 -> 0 | P28: =N28/12 -> 0
A29: =auxalimen!E1 -> Cereales | B29: =Enero!M29 -> 0 | C29: =Febrero!M29 -> 0 | N29: =SUM(B29:M29) -> 0 | O29: =N29/2 -> 0 | P29: =N29/12 -> 0
A30: =auxalimen!E2 -> Arroz | B30: =Enero!M30 -> 0 | C30: =Febrero!M30 -> 0 | N30: =SUM(B30:M30) -> 0 | O30: =N30/2 -> 0 | P30: =N30/12 -> 0
A31: =auxalimen!E3 -> Avena | B31: =Enero!M31 -> 0 | C31: =Febrero!M31 -> 0 | N31: =SUM(B31:M31) -> 0 | O31: =N31/2 -> 0 | P31: =N31/12 -> 0
A32: =auxalimen!E4 -> Pan | B32: =Enero!M32 -> 0 | C32: =Febrero!M32 -> 0 | N32: =SUM(B32:M32) -> 0 | O32: =N32/2 -> 0 | P32: =N32/12 -> 0
A33: =auxalimen!E5 -> Pan otros | B33: =Enero!M33 -> 0 | C33: =Febrero!M33 -> 0 | N33: =SUM(B33:M33) -> 0 | O33: =N33/2 -> 0 | P33: =N33/12 -> 0
A34: =auxalimen!E6 -> Tortillas | B34: =Enero!M34 -> 0 | C34: =Febrero!M34 -> 0 | N34: =SUM(B34:M34) -> 0 | O34: =N34/2 -> 0 | P34: =N34/12 -> 0
A35: =auxalimen!E7 -> Otro | B35: =Enero!M35 -> 0 | C35: =Febrero!M35 -> 0 | N35: =SUM(B35:M35) -> 0 | O35: =N35/2 -> 0 | P35: =N35/12 -> 0
A36: =auxalimen!F1 -> Charcutería | B36: =Enero!M36 -> 0 | C36: =Febrero!M36 -> 0 | N36: =SUM(B36:M36) -> 0 | O36: =N36/2 -> 0 | P36: =N36/12 -> 0
A37: =auxalimen!F2 -> Chorizo | B37: =Enero!M37 -> 0 | C37: =Febrero!M37 -> 0 | N37: =SUM(B37:M37) -> 0 | O37: =N37/2 -> 0 | P37: =N37/12 -> 0
A38: =auxalimen!F3 -> Jamón serrano | B38: =Enero!M38 -> 0 | C38: =Febrero!M38 -> 0 | N38: =SUM(B38:M38) -> 0 | O38: =N38/2 -> 0 | P38: =N38/12 -> 0
A39: =auxalimen!F4 -> Jamón york | B39: =Enero!M39 -> 0 | C39: =Febrero!M39 -> 0 | N39: =SUM(B39:M39) -> 0 | O39: =N39/2 -> 0 | P39: =N39/12 -> 0
A40: =auxalimen!F5 -> Sanchichón | B40: =Enero!M40 -> 0 | C40: =Febrero!M40 -> 0 | N40: =SUM(B40:M40) -> 0 | O40: =N40/2 -> 0 | P40: =N40/12 -> 0
...

Sheet Peso
A1: Fecha | B1: Peso | C1: Evolución
A2: 43833
A3: =A2+3 -> 43836
A4: =A3+4 -> 43840
A5: =A4+3 -> 43843
A6: =A5+4 -> 43847
A7: =A6+3 -> 43850
A8: =A7+4 -> 43854
A9: =A8+3 -> 43857
A10: =A9+4 -> 43861
A11: =A10+3 -> 43864
A12: =A11+4 -> 43868
A13: =A12+3 -> 43871
A14: =A13+4 -> 43875
A15: =A14+3 -> 43878
A16: =A15+4 -> 43882
A17: =A16+3 -> 43885
A18: =A17+4 -> 43889
A19: =A18+3 -> 43892
A20: =A19+4 -> 43896
A21: =A20+3 -> 43899
A22: =A21+4 -> 43903
A23: =A22+3 -> 43906
A24: =A23+4 -> 43910
A25: =A24+3 -> 43913
A26: =A25+4 -> 43917
A27: =A26+3 -> 43920
A28: =A27+4 -> 43924
A29: =A28+3 -> 43927
A30: =A29+4 -> 43931
A31: =A30+3 -> 43934
A32: =A31+4 -> 43938
A33: =A32+3 -> 43941
A34: =A33+4 -> 43945
A35: =A34+3 -> 43948
A36: =A35+4 -> 43952
A37: =A36+3 -> 43955
A38: =A37+4 -> 43959
A39: =A38+3 -> 43962
A40: =A39+4 -> 43966
...

Sheet Gráfico general
A1: Etiquetas de fila | B1: Suma de Total
A2: Alimentación | B2: 0
A3: Bebida | B3: 0
A4: Comida | B4: 0
A5: Compras | B5: 0
A6: GastosCasa | B6: 0
A7: JoseMari | B7: 0
A8: Lucas | B8: 0
A9: MariCarmen | B9: 0
A10: Recibos | B10: 0
A11: Viajes | B11: 0
A12: Total general | B12: 0

Sheet Graf. Alimentación
A1: Etiquetas de fila | B1: Suma de Total
A2: Aliños | B2: 0
A3: Aperitivos | B3: 0
A4: Bebidas | B4: 0
A5: Carne | B5: 0
A6: Cereales | B6: 0
A7: Charcutería | B7: 0
A8: Conservas | B8: 0
A9: Fastfood | B9: 0
A10: Frutas | B10: 0
A11: Lácteos | B11: 0
A12: Pasta | B12: 0
A13: Pescados | B13: 0
... A16: Total general | B16: 0

Sheet Gráficos

Sheet Anual
A2: 2020 | B2: Enero | C2: Febrero | D2: Marzo | E2: Abril | F2: Mayo | G2: Junio | H2: Julio | I2: Agosto | J2: Septiembre | K2: Octubre | L2: Noviembre | M2: Diciembre | N2: Total
A3: Ingresos | B3: =Enero!B94 -> 0 | C3: =Febrero!B94 -> 0 | N3: =SUM(B3:M3) -> 0
A4: Gastos | B4: =Enero!B92 -> 0 | C4: =Febrero!B92 -> 0 | N4: =SUM(B4:M4) -> 0
A5: Saldo mes | B5: =SUM(B3-B4) -> 0 | C5: =SUM(C3-C4) -> 0 | N5: =SUM(B5:M5) -> 0
A6: Balance | B6: =IF(B5<0,0,B5) -> 0 | C6: =IF(C5<0,0,C5) -> 0 | N6: =N5/12 -> 0
A40: 2017 | B40: Enero | C40: Febrero | D40: Marzo | E40: Abril | F40: Mayo | G40: Junio | H40: Julio | I40: Agosto | J40: Septiembre | K40: Octubre | L40: Noviembre | M40: Diciembre | N40: Total
A41: Ingresos | B41: =[4]Enero!B119 -> 2132.77 | C41: =[4]Febrero!B119 -> 1786.76 | D41: =[4]Marzo!B119 -> 1749.03 | E41: =[4]Abril!B120 -> 1927.08 | F41: =[4]Mayo!B120 -> 1912.5 | G41: =[4]Junio!B120 -> 1787.13 | H41: =[4]Julio!$B$119 -> 3666.78 | I41: =[4]Agosto!$B$118 -> 2055.26 | J41: =[4]Septiembre!$B$119 -> 1759.17 | K41: =[4]Octubre!$B$119 -> 1774.4 | L41: =[4]Noviembre!$B$119 -> 1723.92 | M41: =[4]Diciembre!$B$120 -> 4641.97 | N41: =SUM(B41:M41) -> 26916.77
A42: Gastos | B42: =[4]Enero!B117 -> 1978.9 | C42: =[4]Febrero!B117 -> 1808.45 | D42: =[4]Marzo!B117 -> 1343.69 | E42: =[4]Abril!B118 -> 2741.92 | F42: =[4]Mayo!B118 -> 1668.71 | G42: =[4]Junio!B118 -> 1570.84 | H42: =[4]Julio!$B$117 -> 1929.49 | I42: =[4]Agosto!$B$116 -> 1963.04 | J42: =[4]Septiembre!$B$117 -> 2352.58 | K42: =[4]Octubre!$B$117 -> 3030.6 | L42: =[4]Noviembre!$B$117 -> 1839.14 | M42: =[4]Diciembre!$B$118 -> 2755.7 | N42: =SUM(B42:M42) -> 24983.06
A43: Saldo mes | B43: =[4]Enero!B120 -> 153.87 | C43: =[4]Febrero!B120 -> -21.69 | D43: =[4]Marzo!B120 -> 405.34 | E43: =[4]Abril!B121 -> -814.84 | F43: =[4]Mayo!B121 -> 243.79 | G43: =[4]Junio!B121 -> 216.29 | H43: =[4]Julio!$B$120 -> 1737.29 | I43: =[4]Agosto!$B$119 -> 92.22 | J43: =[4]Septiembre!$B$120 -> -593.41 | K43: =[4]Octubre!$B$120 -> -1256.2 | L43: =[4]Noviembre!$B$120 -> -115.22 | M43: =[4]Diciembre!$B$121 -> 1886.27 | N43: =SUM(B43:M43) -> 1933.71
A44: Balance | B44: =[4]Enero!B121 -> 153.87 | C44: =B44+C43 -> 132.18 | D44: =C44+D43 -> 537.52 | E44: =D44+E43 -> -277.32 | F44: =E44+F43 -> -33.53 | G44: =F44+G43 -> 182.76 | H44: =G44+H43 -> 1920.05 | I44: =H44+I43 -> 2012.27 | J44: =I44+J43 -> 1418.86 | ... M44: =L44+M43 -> 1933.71 | N44: =N43/12 -> 161.1425
A46: 2018 | B46: Enero | C46: Febrero | D46: Marzo | E46: Abril | F46: Mayo | G46: Junio | H46: Julio | I46: Agosto | J46: Septiembre | K46: Octubre | L46: Noviembre | M46: Diciembre | N46: Total
A47: Ingresos | B47: =[3]Enero!$B$107 -> 2316.96 | C47: =[3]Febrero!$B$107 -> 1739.27 | D47: =[3]Marzo!$B$107 -> 1745.62 | E47: =[3]Abril!$B$107 -> 1865.11 | F47: =[3]Mayo!$B$107 -> 1719.1 | G47: =[3]Junio!$B$107 -> 1909.76 | H47: =[3]Julio!$B$107 -> 3114.44 | I47: =[3]Agosto!$B$107 -> 1583.8 | J47: =[3]Septiembre!$B$107 -> 972.02 | K47: =[3]Octubre!$B$108 -> 972.01 | L47: =[3]Noviembre!$B$108 -> 4471.98 | M47: =[3]Diciembre!$B$108 -> 3971.92 | N47: =SUM(B47:M47) -> 26381.99
A48: Gastos | B48: =[3]Enero!$B$105 -> 2317.77 | C48: =[3]Febrero!$B$105 -> 1879.51 | D48: =[3]Marzo!$B$105 -> 1772.87 | E48: =[3]Abril!B155 -> 0 | F48: =[3]Mayo!B155 -> 0 | G48: =[3]Junio!B155 -> 0 | H48: =[3]Julio!$B155 -> 0 | I48: =[3]Agosto!$B155 -> 0 | J48: =[3]Septiembre!$B155 -> 0 | K48: =[3]Octubre!$B156 -> 0 | L48: =[3]Noviembre!$B156 -> 0 | M48: =[3]Diciembre!$B156 -> 0 | N48: =SUM(B48:M48) -> 5970.15
A49: Saldo mes | B49: =[3]Enero!$B$113 -> -0.81 | C49: =[3]Febrero!$B$113 -> -140.24 | D49: =[3]Marzo!$B$113 -> -27.25 | E49: =[3]Abril!B163 -> 0 | F49: =[3]Mayo!B163 -> 0 | G49: =[3]Junio!B163 -> 0 | H49: =[3]Julio!$B163 -> 0 | I49: =[3]Agosto!$B163 -> 0 | J49: =[3]Septiembre!$B163 -> 0 | K49: =[3]Octubre!$B164 -> 0 | L49: =[3]Noviembre!$B164 -> 0 | M49: =[3]Diciembre!$B164 -> 0 | N49: =SUM(B49:M49) -> -168.3
A50: Balance | B50: =B49 -> -0.81 | C50: =B50+C49 -> -141.05 | D50: =C50+D49 -> -168.3 | E50: =D50+E49 -> -168.3 | F50: =E50+F49 -> -168.3 | G50: =F50+G49 -> -168.3 | H50: =G50+H49 -> -168.3 | I50: =H50+I49 -> -168.3 | J50: =I50+J49 -> -168.3 | ... M50: =L50+M49 -> -168.3 | N50: =N49/12 -> -14.025
A52: 2019 | B52: Enero | C52: Febrero | D52: Marzo | E52: Abril | F52: Mayo | G52: Junio | H52: Julio | I52: Agosto | J52: Septiembre | K52: Octubre | L52: Noviembre | M52: Diciembre | N52: Total
A53: Ingresos | B53: =[1]Enero!$B$107 -> 1338.89 | C53: =[1]Febrero!$B$107 -> 1244.68 | D53: =[1]Marzo!$B$107 -> 1510.86 | E53: =[1]Abril!$B$107 -> 1303.02 | F53: =[1]Mayo!$B$107 -> 1411.17 | G53: =[1]Junio!$B$107 -> 1181.97 | H53: =[1]Julio!$B$107 -> 817.34 | I53: =[1]Agosto!$B$107 -> 88.12 | J53: =[1]Septiembre!$B$107 -> 16.08 | K53: =[1]Octubre!$B$107 -> 898.79 | L53: =[1]Noviembre!$B$107 -> 469.06 | M53: =[1]Diciembre!$B$107 -> 875.94 | N53: =SUM(B53:M53) -> 11155.92
A54: Gastos | B54: =[1]Enero!$B$105 -> 2605.41 | C54: =[1]Febrero!$B$105 -> 1243.92 | D54: =[1]Marzo!$B$105 -> 1424.17 | E54: =[1]Abril!$B$105 -> 1558.74 | F54: =[1]Mayo!$B$105 -> 1853.31 | G54: =[1]Junio!$B$105 -> 1083.24 | H54: =[1]Julio!$B$105 -> 1233.39 | I54: =[1]Agosto!$B$105 -> 1238.8 | J54: =[1]Septiembre!$B$105 -> 1133.45 | K54: =[1]Octubre!$B$105 -> 1672.96 | L54: =[1]Noviembre!$B$105 -> 1223.66 | M54: =[1]Diciembre!$B$105 -> 1805.81 | N54: =SUM(B54:M54) -> 18076.86
A55: Saldo mes | B55: =[1]Enero!$B$115 -> -1266.52 | C55: =[1]Febrero!$B$115 -> 0.76 | D55: =[1]Marzo!$B$115 -> 86.69 | E55: =[1]Abril!$B$115 -> -255.72 | F55: =[1]Mayo!$B$115 -> -442.14 | G55: =[1]Junio!$B$115 -> 98.73 | H55: =[1]Julio!$B$115 -> -416.05 | I55: =[1]Agosto!$B$115 -> -1150.68 | J55: =[1]Septiembre!$B$115 -> -1117.37 | K55: =[1]Octubre!$B$115 -> -774.17 | L55: =[1]Noviembre!$B$115 -> -754.6 | M55: =[1]Diciembre!$B$115 -> -929.87 | N55: =SUM(B55:M55) -> -6920.94
A56: Balance | B56: =B55 -> -1266.52 | C56: =B56+C55 -> -1265.76 | D56: =C56+D55 -> -1179.07 | E56: =D56+E55 -> -1434.79 | F56: =E56+F55 -> -1876.93 | G56: =F56+G55 -> -1778.2 | H56: =G56+H55 -> -2194.25 | I56: =H56+I55 -> -3344.93 | J56: =I56+J55 -> -4462.3 | ... M56: =L56+M55 -> -6920.94 | N56: =N55/12 -> -576.745

Sheet Total
A1: Cuenta | B1: Enero | C1: Febrero | D1: Marzo | E1: Abril | F1: Mayo | G1: Junio | H1: Julio | I1: Agosto | J1: Septiembre | K1: Octubre | L1: Noviembre | M1: Diciembre
A2: Caja
A3: Cuenta EVO
A4: TOTAL
A5: Mes a mes

Sheet aux
A1: Obligatorios | P1: Ocio
A2: Hogar | C2: Ingresos | D2: Hogar | E2: Transporte | G2: Alimentación | H2: GastosCasa | I2: Lucas | J2: Recibos | L2: JoseMari | M2: MariCarmen | N2: OtrosTrans | P2: Bebida | Q2: Comida | R2: Compras | S2: Viajes
A3: Transporte | C3: Devoluciones | D3: Alimentación | E3: JoseMari | G3: Ahorra Más | H3: Alquiler | I3: Complementos | J3: Canal Isabel II | L3: Complementos | M3: Complementos | N3: Autobús / Metro | P3: Alcalá | Q3: Alcalá | R3: Calzado | S3: Aduanas
A4: Ocio | C4: INEM | D4: GastosCasa | E4: MariCarmen | G4: Aldi | H4: Aseo | I4: Chucherías | J4: Gas Natural | L4: Gasolina | M4: Gasolina | N4: Cercanías | P4: Cerceda | Q4: Cerceda | R4: Correos | S4: Alojamiento
